BEGIN:VCALENDAR
VERSION:2.0
PRODID:-//Le Cheval dans l&#039;Arbre - ECPv6.15.11//NONSGML v1.0//EN
CALSCALE:GREGORIAN
METHOD:PUBLISH
X-WR-CALNAME:Le Cheval dans l&#039;Arbre
X-ORIGINAL-URL:https://www.lechevaldanslarbre.fr
X-WR-CALDESC:Évènements pour Le Cheval dans l&#039;Arbre
REFRESH-INTERVAL;VALUE=DURATION:PT1H
X-Robots-Tag:noindex
X-PUBLISHED-TTL:PT1H
BEGIN:VTIMEZONE
TZID:Europe/Paris
BEGIN:DAYLIGHT
TZOFFSETFROM:+0100
TZOFFSETTO:+0200
TZNAME:CEST
DTSTART:20230326T010000
END:DAYLIGHT
BEGIN:STANDARD
TZOFFSETFROM:+0200
TZOFFSETTO:+0100
TZNAME:CET
DTSTART:20231029T010000
END:STANDARD
BEGIN:DAYLIGHT
TZOFFSETFROM:+0100
TZOFFSETTO:+0200
TZNAME:CEST
DTSTART:20240331T010000
END:DAYLIGHT
BEGIN:STANDARD
TZOFFSETFROM:+0200
TZOFFSETTO:+0100
TZNAME:CET
DTSTART:20241027T010000
END:STANDARD
BEGIN:DAYLIGHT
TZOFFSETFROM:+0100
TZOFFSETTO:+0200
TZNAME:CEST
DTSTART:20250330T010000
END:DAYLIGHT
BEGIN:STANDARD
TZOFFSETFROM:+0200
TZOFFSETTO:+0100
TZNAME:CET
DTSTART:20251026T010000
END:STANDARD
END:VTIMEZONE
BEGIN:VEVENT
DTSTART;TZID=Europe/Paris:20241123T100000
DTEND;TZID=Europe/Paris:20241123T123000
DTSTAMP:20260422T013715
CREATED:20241030T105314Z
LAST-MODIFIED:20241108T105018Z
UID:2984-1732356000-1732365000@www.lechevaldanslarbre.fr
SUMMARY:Stéphane Sazé de L’inavouable
DESCRIPTION:Dans le cadre des rencontres d’auteurs à la librairie. Samedi 23 novembre à partir de 10h retrouvez Stéphane Sazé à la librairie pour une présentation suivie d’une dédicace de son livre l’inavouable.  \nStéphane Sazé a développé une passion pour l’écriture dès son plus jeune âge. Sa curiosité et son esprit imaginatif le poussent à exprimer rapidement ses émotions\, tout en explorant de nouveaux horizons et de nouvelles expériences. Auteur de plusieurs centaines de citations et maximes\, il présente régulièrement ses créations en tant qu’affichiste lors de manifestations culturelles et d’expositions. \nAllez tous vous faire plaisir ! – L’Inavouable\nCe livre est bien plus qu’un recueil de citations inspirantes ; c’est un recueil de pensées et d’émotions où chacun peut se retrouver. Les expériences de vie que l’auteur dévoile avec lucidité et justesse nous incitent à réfléchir sur des thèmes tels que l’humanité\, l’amour et le bonheur. \nÀ travers son œuvre singulière\, il nous parle en toute simplicité et donne à chacun la liberté d’interpréter à sa manière ses textes aux multiples significations. Découvrir cet univers plein de surprises ne fera que récompenser notre curiosité.
URL:https://www.lechevaldanslarbre.fr/event/stephane-saze-de-linavouable/
CATEGORIES:Signatures d'auteurs
ATTACH;FMTTYPE=image/jpeg:https://www.lechevaldanslarbre.fr/wp-content/uploads/2024/10/affiche-24-aout-2-e1730296467978.jpg
ORGANIZER;CN="Librairie Le Cheval dans l'Arbre":MAILTO:librairie@lechevaldanslarbre.fr
END:VEVENT
END:VCALENDAR