BEGIN:VCALENDAR
VERSION:2.0
PRODID:-//Le Cheval dans l&#039;Arbre - ECPv6.15.11//NONSGML v1.0//EN
CALSCALE:GREGORIAN
METHOD:PUBLISH
X-WR-CALNAME:Le Cheval dans l&#039;Arbre
X-ORIGINAL-URL:https://www.lechevaldanslarbre.fr
X-WR-CALDESC:Évènements pour Le Cheval dans l&#039;Arbre
REFRESH-INTERVAL;VALUE=DURATION:PT1H
X-Robots-Tag:noindex
X-PUBLISHED-TTL:PT1H
BEGIN:VTIMEZONE
TZID:Europe/Paris
BEGIN:DAYLIGHT
TZOFFSETFROM:+0100
TZOFFSETTO:+0200
TZNAME:CEST
DTSTART:20230326T010000
END:DAYLIGHT
BEGIN:STANDARD
TZOFFSETFROM:+0200
TZOFFSETTO:+0100
TZNAME:CET
DTSTART:20231029T010000
END:STANDARD
BEGIN:DAYLIGHT
TZOFFSETFROM:+0100
TZOFFSETTO:+0200
TZNAME:CEST
DTSTART:20240331T010000
END:DAYLIGHT
BEGIN:STANDARD
TZOFFSETFROM:+0200
TZOFFSETTO:+0100
TZNAME:CET
DTSTART:20241027T010000
END:STANDARD
BEGIN:DAYLIGHT
TZOFFSETFROM:+0100
TZOFFSETTO:+0200
TZNAME:CEST
DTSTART:20250330T010000
END:DAYLIGHT
BEGIN:STANDARD
TZOFFSETFROM:+0200
TZOFFSETTO:+0100
TZNAME:CET
DTSTART:20251026T010000
END:STANDARD
END:VTIMEZONE
BEGIN:VEVENT
DTSTART;TZID=Europe/Paris:20241128T170000
DTEND;TZID=Europe/Paris:20241128T200000
DTSTAMP:20260422T013710
CREATED:20241030T095400Z
LAST-MODIFIED:20241109T135433Z
UID:2987-1732813200-1732824000@www.lechevaldanslarbre.fr
SUMMARY:Table ronde “Agir pour l’alimentation durable" à Sainte Marie la mer
DESCRIPTION:Le 28 novembre la librairie participera à une table ronde organisée par la MGEN\, et intitulée « Agir pour l’alimentation durable ». Cet évènement se déroulera à Sainte Marie de la mer\, salle Oméga à 18h. Les thèmes suivants seront abordés : Cultiver l’eau\, cuisiner malin\, pour une sécurité sociale de l’alimentation. \nALIMENTATION\, EAU\, SANTE : Pour passer de l’intention à l’action ! \nVenez nous rejoindre à Sainte-Marie-la-Mer pour cette conférence-débat\, animée par Olivier BONED\, à travers 3 thèmes : \n\nCultiver l’eau (M. André TRIVES\, Agriculteur à Elne spécialisé en permaculture et en gestion de l’eau)\nCuisiner malin (M. Anthonin BREMOND\, Diététicien)\nUne « Sécurité Sociale » de l’Alimentation (M. Marco LOCURATOLO\, Expérimentateur d’une caisse alimentaire à Montpellier)\n\nNos experts apporteront leur éclairage pour nous aider à comprendre l’impact de l’environnement sur notre santé et les actions que nous pouvons mettre en pratique pour le réduire. Ne manquez pas cette opportunité de vous connecter avec des personnes partageant les mêmes idées et d’acquérir des compétences précieuses pour un mode de vie plus sain.
URL:https://www.lechevaldanslarbre.fr/event/table-ronde-agir-pour-lalimentation-durable-a-sainte-marie-la-mer/
CATEGORIES:Les sorties de la librairie
ATTACH;FMTTYPE=image/jpeg:https://www.lechevaldanslarbre.fr/wp-content/uploads/2024/10/AGORA-SANTE-ET-ENVIRONNEMENT.jpg
END:VEVENT
END:VCALENDAR