BEGIN:VCALENDAR
VERSION:2.0
PRODID:-//Le Cheval dans l&#039;Arbre - ECPv6.15.11//NONSGML v1.0//EN
CALSCALE:GREGORIAN
METHOD:PUBLISH
X-ORIGINAL-URL:https://www.lechevaldanslarbre.fr
X-WR-CALDESC:Évènements pour Le Cheval dans l&#039;Arbre
REFRESH-INTERVAL;VALUE=DURATION:PT1H
X-Robots-Tag:noindex
X-PUBLISHED-TTL:PT1H
BEGIN:VTIMEZONE
TZID:Europe/Paris
BEGIN:DAYLIGHT
TZOFFSETFROM:+0100
TZOFFSETTO:+0200
TZNAME:CEST
DTSTART:20230326T010000
END:DAYLIGHT
BEGIN:STANDARD
TZOFFSETFROM:+0200
TZOFFSETTO:+0100
TZNAME:CET
DTSTART:20231029T010000
END:STANDARD
BEGIN:DAYLIGHT
TZOFFSETFROM:+0100
TZOFFSETTO:+0200
TZNAME:CEST
DTSTART:20240331T010000
END:DAYLIGHT
BEGIN:STANDARD
TZOFFSETFROM:+0200
TZOFFSETTO:+0100
TZNAME:CET
DTSTART:20241027T010000
END:STANDARD
BEGIN:DAYLIGHT
TZOFFSETFROM:+0100
TZOFFSETTO:+0200
TZNAME:CEST
DTSTART:20250330T010000
END:DAYLIGHT
BEGIN:STANDARD
TZOFFSETFROM:+0200
TZOFFSETTO:+0100
TZNAME:CET
DTSTART:20251026T010000
END:STANDARD
END:VTIMEZONE
BEGIN:VEVENT
DTSTART;TZID=Europe/Paris:20241207T100000
DTEND;TZID=Europe/Paris:20241207T130000
DTSTAMP:20260422T031155
CREATED:20241120T123301Z
LAST-MODIFIED:20241206T125857Z
UID:3015-1733565600-1733576400@www.lechevaldanslarbre.fr
SUMMARY:Magdalena en dédicace
DESCRIPTION:Venez passer un moment en famille à la librairie Le Cheval dans l’Arbre ! Nous sommes heureux de vous inviter à une rencontre exceptionnelle avec Magdalena\, qui présentera son tout nouveau livre ”Le village des lutins de Noël”. C’est l’occasion rêvée de découvrir une autrice talentueuse. \nPendant ce temps\, vos enfants pourront laisser libre cours à leur créativité grâce à un atelier créatif spécialement conçu pour eux. Une activité ludique et éducative qui éveillera leur imagination tout en leur offrant un moment de plaisir. \nAu programme : \n\nRencontre avec Magdalena : échangez autour du livre\, de l’univers de l’écriture et des illustrations.\nAtelier créatif pour enfants : peinture\, dessin\, collage\, ou autres surprises pour stimuler leur créativité !\n\nC’est l’occasion parfaite de combiner une belle sortie en famille avec un moment de détente et d’évasion littéraire. \nNous vous attendons nombreux pour cette matinée conviviale et pleine de découvertes !
URL:https://www.lechevaldanslarbre.fr/event/magdalena/
CATEGORIES:Signatures d'auteurs
ATTACH;FMTTYPE=image/jpeg:https://www.lechevaldanslarbre.fr/wp-content/uploads/2024/11/Copie-de-lib-Magdalena-7-decembre-24-e1732624434656.jpg
ORGANIZER;CN="Librairie Le Cheval dans l'Arbre":MAILTO:librairie@lechevaldanslarbre.fr
END:VEVENT
END:VCALENDAR