BEGIN:VCALENDAR
VERSION:2.0
PRODID:-//Le Cheval dans l&#039;Arbre - ECPv6.15.11//NONSGML v1.0//EN
CALSCALE:GREGORIAN
METHOD:PUBLISH
X-ORIGINAL-URL:https://www.lechevaldanslarbre.fr
X-WR-CALDESC:Évènements pour Le Cheval dans l&#039;Arbre
REFRESH-INTERVAL;VALUE=DURATION:PT1H
X-Robots-Tag:noindex
X-PUBLISHED-TTL:PT1H
BEGIN:VTIMEZONE
TZID:Europe/Paris
BEGIN:DAYLIGHT
TZOFFSETFROM:+0100
TZOFFSETTO:+0200
TZNAME:CEST
DTSTART:20230326T010000
END:DAYLIGHT
BEGIN:STANDARD
TZOFFSETFROM:+0200
TZOFFSETTO:+0100
TZNAME:CET
DTSTART:20231029T010000
END:STANDARD
BEGIN:DAYLIGHT
TZOFFSETFROM:+0100
TZOFFSETTO:+0200
TZNAME:CEST
DTSTART:20240331T010000
END:DAYLIGHT
BEGIN:STANDARD
TZOFFSETFROM:+0200
TZOFFSETTO:+0100
TZNAME:CET
DTSTART:20241027T010000
END:STANDARD
BEGIN:DAYLIGHT
TZOFFSETFROM:+0100
TZOFFSETTO:+0200
TZNAME:CEST
DTSTART:20250330T010000
END:DAYLIGHT
BEGIN:STANDARD
TZOFFSETFROM:+0200
TZOFFSETTO:+0100
TZNAME:CET
DTSTART:20251026T010000
END:STANDARD
END:VTIMEZONE
BEGIN:VEVENT
DTSTART;TZID=Europe/Paris:20241209T090000
DTEND;TZID=Europe/Paris:20241231T173000
DTSTAMP:20260422T031514
CREATED:20241206T125751Z
LAST-MODIFIED:20241206T125751Z
UID:3022-1733734800-1735666200@www.lechevaldanslarbre.fr
SUMMARY:Ouvertures exceptionnelles en décembre
DESCRIPTION:🎄📚 Les fêtes arrivent et nous avons ajusté nos horaires pour mieux vous servir ! 📚🎄 \nComme chaque année\, nous modifions nos horaires d’ouverture en décembre pour satisfaire au mieux nos clients\, grâce à la participation de nos sociétaires bénévoles. \nVoici nos horaires spéciaux pour les jours à venir : \n\n📅 Dimanche 15 décembre (Foire au gras) : Ouverture continue de 9h à 17h\n📅 Samedi 21 décembre : Dédicace de Marie-Monique Robin à 14h30\n📅 Dimanche 22 décembre : Ouverture continue de 9h à 18h30\n📅 Lundi 23 décembre : Ouverture continue de 9h à 18h30\n📅 Mardi 24 décembre : Ouverture continue de 9h à 17h\n📅 Mardi 31 décembre : Ouverture continue de 9h à 17h\n\nNous serons ravis de vous aider à trouver le cadeau parfait pour vos proches ! 🎁🎉 \n 
URL:https://www.lechevaldanslarbre.fr/event/ouvertures-exceptionnelles-en-decembre/
ATTACH;FMTTYPE=image/png:https://www.lechevaldanslarbre.fr/wp-content/uploads/2024/12/insta-horaire-3.png
END:VEVENT
BEGIN:VEVENT
DTSTART;TZID=Europe/Paris:20241221T143000
DTEND;TZID=Europe/Paris:20241221T183000
DTSTAMP:20260422T031514
CREATED:20241211T162644Z
LAST-MODIFIED:20241211T162834Z
UID:3026-1734791400-1734805800@www.lechevaldanslarbre.fr
SUMMARY:Dédicace Marie-Monique Robin et Fanny Charrasse
DESCRIPTION:Venez rencontrer Marie-Monique Robin et Fanny Charrasse pour une après-midi exceptionnelle de discussion et de dédicaces ! \nMère et fille\, toutes deux auteures passionnantes\, vous présenteront leurs derniers ouvrages sur des thèmes fascinants : l’écologie\, la santé\, le bien-être et le lien entre l’Homme et le monde animal. \nMarie-Monique Robin vous proposera ses deux dernières parutions : \n\nVive les microbes ! Comment les microbiomes protègent la santé planétaire « Il y a 50 ans 5% de la population souffraient d’asthme et d’allergies\, aujourd’hui c’est 35%. La cause: la disparition des microbes dans les espaces urbains qui appauvrit le microbiote des enfants et affaiblit leur système immunitaire »\nCes animaux qui nous protègent « Ce livre magnifiquement illustré par Valentine Plessy dévoile la beauté et l’extraordinaire inventivité des animaux qui jouent un rôle essentiel pour préserver les conditions de vie sur terre. Il montre comment notre destin est intimement lié à celui des animaux\, du plus petit au plus grand. Un appel urgent à redécouvrir et à protéger la diversité du règne animal\, dont les humains font partie. »\n\nFanny Charrasse\, sa fille\, vous présentera ses ouvrages : \n\nLe retour du monde magique – Magnétisme et paradoxes de la modernité « Dans un monde où la science et la rationalité dominent\, Fanny Charrasse nous invite à redécouvrir l’importance du magnétisme et des énergies subtiles. Entre héritages mystiques et découvertes modernes\, cet ouvrage explore comment ces forces invisibles agissent sur notre bien-être et notre quotidien. Un voyage au cœur des paradoxes de la modernité\, où la magie et la science se rejoignent pour nous révéler de nouvelles vérités sur l’univers qui nous entoure. »\nPlumes\, poils\, écailles « À travers ce livre\, Fanny Charrasse nous entraîne dans un voyage sensoriel et poétique à la découverte de l’incroyable diversité des créatures qui partagent notre planète. Plumes\, poils et écailles sont autant de symboles de la beauté et de la résilience du monde animal. Cet ouvrage\, où l’art et la nature se mêlent\, nous invite à une réflexion profonde sur notre relation avec ces êtres fascinants et sur la nécessité de les protéger. »\n\nVenez échanger avec elles\, découvrir leurs univers respectifs et faire dédicacer vos livres ! \nL’entrée est libre\, mais le nombre de places étant limité\, pensez à arriver tôt pour profiter de cette rencontre unique !
URL:https://www.lechevaldanslarbre.fr/event/dedicace-marie-monique-robin-et-fanny-charrasse/
CATEGORIES:Signatures d'auteurs
ATTACH;FMTTYPE=image/jpeg:https://www.lechevaldanslarbre.fr/wp-content/uploads/2024/12/Helene-Legrais-e1733934505292.jpg
END:VEVENT
END:VCALENDAR