BEGIN:VCALENDAR
VERSION:2.0
PRODID:-//Le Cheval dans l&#039;Arbre - ECPv6.15.11//NONSGML v1.0//EN
CALSCALE:GREGORIAN
METHOD:PUBLISH
X-ORIGINAL-URL:https://www.lechevaldanslarbre.fr
X-WR-CALDESC:Évènements pour Le Cheval dans l&#039;Arbre
REFRESH-INTERVAL;VALUE=DURATION:PT1H
X-Robots-Tag:noindex
X-PUBLISHED-TTL:PT1H
BEGIN:VTIMEZONE
TZID:Europe/Paris
BEGIN:DAYLIGHT
TZOFFSETFROM:+0100
TZOFFSETTO:+0200
TZNAME:CEST
DTSTART:20240331T010000
END:DAYLIGHT
BEGIN:STANDARD
TZOFFSETFROM:+0200
TZOFFSETTO:+0100
TZNAME:CET
DTSTART:20241027T010000
END:STANDARD
BEGIN:DAYLIGHT
TZOFFSETFROM:+0100
TZOFFSETTO:+0200
TZNAME:CEST
DTSTART:20250330T010000
END:DAYLIGHT
BEGIN:STANDARD
TZOFFSETFROM:+0200
TZOFFSETTO:+0100
TZNAME:CET
DTSTART:20251026T010000
END:STANDARD
BEGIN:DAYLIGHT
TZOFFSETFROM:+0100
TZOFFSETTO:+0200
TZNAME:CEST
DTSTART:20260329T010000
END:DAYLIGHT
BEGIN:STANDARD
TZOFFSETFROM:+0200
TZOFFSETTO:+0100
TZNAME:CET
DTSTART:20261025T010000
END:STANDARD
END:VTIMEZONE
BEGIN:VEVENT
DTSTART;TZID=Europe/Paris:20250118T100000
DTEND;TZID=Europe/Paris:20250118T113000
DTSTAMP:20260422T045841
CREATED:20250109T132255Z
LAST-MODIFIED:20250110T075455Z
UID:3043-1737194400-1737199800@www.lechevaldanslarbre.fr
SUMMARY:Atelier d'écriture créative pour enfants Samedi 18 Janvier de 10h à 11h30
DESCRIPTION:Offrez à vos enfants un temps d’exploration ludique de leur créativité à travers l’écriture au cœur du marché de Céret. Pour l’occasion la librairie a fait appel à Alice Méchain d’AME Expressive\, artiste et coach en expression pour leur faire découvrir le secret des mots qui sortent toujours vainqueurs de la page blanche !\nLes inscriptions se font directement ̀ la librairie au prix de 8€.\nAccessible à partir de 8-9 ans. Le matériel est fourni .\nAttention\, les places sont limitées à 10 participants. Ne tardez pas !
URL:https://www.lechevaldanslarbre.fr/event/3043/
ATTACH;FMTTYPE=image/png:https://www.lechevaldanslarbre.fr/wp-content/uploads/2025/01/Opera-Instantane_2025-01-09_142152_AME-AFFICHE-ATE-LIBRAIRIE-A4.pdf-e1736429030755.png
ORGANIZER;CN="Librairie Le Cheval dans l'Arbre":MAILTO:librairie@lechevaldanslarbre.fr
END:VEVENT
END:VCALENDAR