BEGIN:VCALENDAR
VERSION:2.0
PRODID:-//Le Cheval dans l&#039;Arbre - ECPv6.15.11//NONSGML v1.0//EN
CALSCALE:GREGORIAN
METHOD:PUBLISH
X-WR-CALNAME:Le Cheval dans l&#039;Arbre
X-ORIGINAL-URL:https://www.lechevaldanslarbre.fr
X-WR-CALDESC:Évènements pour Le Cheval dans l&#039;Arbre
REFRESH-INTERVAL;VALUE=DURATION:PT1H
X-Robots-Tag:noindex
X-PUBLISHED-TTL:PT1H
BEGIN:VTIMEZONE
TZID:Europe/Paris
BEGIN:DAYLIGHT
TZOFFSETFROM:+0100
TZOFFSETTO:+0200
TZNAME:CEST
DTSTART:20240331T010000
END:DAYLIGHT
BEGIN:STANDARD
TZOFFSETFROM:+0200
TZOFFSETTO:+0100
TZNAME:CET
DTSTART:20241027T010000
END:STANDARD
BEGIN:DAYLIGHT
TZOFFSETFROM:+0100
TZOFFSETTO:+0200
TZNAME:CEST
DTSTART:20250330T010000
END:DAYLIGHT
BEGIN:STANDARD
TZOFFSETFROM:+0200
TZOFFSETTO:+0100
TZNAME:CET
DTSTART:20251026T010000
END:STANDARD
BEGIN:DAYLIGHT
TZOFFSETFROM:+0100
TZOFFSETTO:+0200
TZNAME:CEST
DTSTART:20260329T010000
END:DAYLIGHT
BEGIN:STANDARD
TZOFFSETFROM:+0200
TZOFFSETTO:+0100
TZNAME:CET
DTSTART:20261025T010000
END:STANDARD
END:VTIMEZONE
BEGIN:VEVENT
DTSTART;TZID=Europe/Paris:20250125T150000
DTEND;TZID=Europe/Paris:20250125T180000
DTSTAMP:20260422T045358
CREATED:20250109T131245Z
LAST-MODIFIED:20250110T075558Z
UID:3034-1737817200-1737828000@www.lechevaldanslarbre.fr
SUMMARY:Conférence Sylvain Cypel Samedi 25 janvier à 15h - Salle de l'Union
DESCRIPTION:Rencontre à la salle de l’Union\, en partenariat avec l’AFPS – Vallée du tech \, une table de la librairie sera présente pour la conférence du journaliste franco-israélien Sylvain Cypel\, ex-directeur de la rédaction de Courrier international et ex-rédacteur en chef au Monde \, pour la parution de son ouvrage L’État d’Israël contre les Juifs. Aux éditions de La Découverte.
URL:https://www.lechevaldanslarbre.fr/event/conference-sylvain-cypel/
LOCATION:Salle de l’Union
CATEGORIES:Les sorties de la librairie
ATTACH;FMTTYPE=image/png:https://www.lechevaldanslarbre.fr/wp-content/uploads/2025/01/Opera-Instantane_2025-01-09_141142_www.babelio.com_.png
END:VEVENT
END:VCALENDAR