BEGIN:VCALENDAR
VERSION:2.0
PRODID:-//Le Cheval dans l&#039;Arbre - ECPv6.15.11//NONSGML v1.0//EN
CALSCALE:GREGORIAN
METHOD:PUBLISH
X-ORIGINAL-URL:https://www.lechevaldanslarbre.fr
X-WR-CALDESC:Évènements pour Le Cheval dans l&#039;Arbre
REFRESH-INTERVAL;VALUE=DURATION:PT1H
X-Robots-Tag:noindex
X-PUBLISHED-TTL:PT1H
BEGIN:VTIMEZONE
TZID:Europe/Paris
BEGIN:DAYLIGHT
TZOFFSETFROM:+0100
TZOFFSETTO:+0200
TZNAME:CEST
DTSTART:20240331T010000
END:DAYLIGHT
BEGIN:STANDARD
TZOFFSETFROM:+0200
TZOFFSETTO:+0100
TZNAME:CET
DTSTART:20241027T010000
END:STANDARD
BEGIN:DAYLIGHT
TZOFFSETFROM:+0100
TZOFFSETTO:+0200
TZNAME:CEST
DTSTART:20250330T010000
END:DAYLIGHT
BEGIN:STANDARD
TZOFFSETFROM:+0200
TZOFFSETTO:+0100
TZNAME:CET
DTSTART:20251026T010000
END:STANDARD
BEGIN:DAYLIGHT
TZOFFSETFROM:+0100
TZOFFSETTO:+0200
TZNAME:CEST
DTSTART:20260329T010000
END:DAYLIGHT
BEGIN:STANDARD
TZOFFSETFROM:+0200
TZOFFSETTO:+0100
TZNAME:CET
DTSTART:20261025T010000
END:STANDARD
END:VTIMEZONE
BEGIN:VEVENT
DTSTART;TZID=Europe/Paris:20250211T100000
DTEND;TZID=Europe/Paris:20250211T120000
DTSTAMP:20260422T064023
CREATED:20250207T111528Z
LAST-MODIFIED:20250210T132831Z
UID:3147-1739268000-1739275200@www.lechevaldanslarbre.fr
SUMMARY:Rencontre - Emmanuel Lascoux - mardi 11 février de 10h à 12h à la salle de l’Union
DESCRIPTION:Après la traduction de l’Odyssée (éditions POL)\, l’auteur Emmanuel Lascoux entame ce qu’il nomme la face nord de l’épopée homérique : l’Iliade. \nUn véritable coup de fouet dans une langue au lyrisme nerveux pour retrouver avec bonheur les batailles des corps et des âmes\, jouets des rancunes divines.
URL:https://www.lechevaldanslarbre.fr/event/emmanuel-lascoux-mardi-11-fevrier-de-10h-a-12h-a-la-salle-de-lunion/
LOCATION:Salle de l’Union
ATTACH;FMTTYPE=image/jpeg:https://www.lechevaldanslarbre.fr/wp-content/uploads/2025/02/iliade-e1738928573650.jpg
END:VEVENT
END:VCALENDAR