BEGIN:VCALENDAR
VERSION:2.0
PRODID:-//Le Cheval dans l&#039;Arbre - ECPv6.15.11//NONSGML v1.0//EN
CALSCALE:GREGORIAN
METHOD:PUBLISH
X-WR-CALNAME:Le Cheval dans l&#039;Arbre
X-ORIGINAL-URL:https://www.lechevaldanslarbre.fr
X-WR-CALDESC:Évènements pour Le Cheval dans l&#039;Arbre
REFRESH-INTERVAL;VALUE=DURATION:PT1H
X-Robots-Tag:noindex
X-PUBLISHED-TTL:PT1H
BEGIN:VTIMEZONE
TZID:Europe/Paris
BEGIN:DAYLIGHT
TZOFFSETFROM:+0100
TZOFFSETTO:+0200
TZNAME:CEST
DTSTART:20240331T010000
END:DAYLIGHT
BEGIN:STANDARD
TZOFFSETFROM:+0200
TZOFFSETTO:+0100
TZNAME:CET
DTSTART:20241027T010000
END:STANDARD
BEGIN:DAYLIGHT
TZOFFSETFROM:+0100
TZOFFSETTO:+0200
TZNAME:CEST
DTSTART:20250330T010000
END:DAYLIGHT
BEGIN:STANDARD
TZOFFSETFROM:+0200
TZOFFSETTO:+0100
TZNAME:CET
DTSTART:20251026T010000
END:STANDARD
BEGIN:DAYLIGHT
TZOFFSETFROM:+0100
TZOFFSETTO:+0200
TZNAME:CEST
DTSTART:20260329T010000
END:DAYLIGHT
BEGIN:STANDARD
TZOFFSETFROM:+0200
TZOFFSETTO:+0100
TZNAME:CET
DTSTART:20261025T010000
END:STANDARD
END:VTIMEZONE
BEGIN:VEVENT
DTSTART;TZID=Europe/Paris:20250308T190000
DTEND;TZID=Europe/Paris:20250308T213000
DTSTAMP:20260422T081418
CREATED:20250224T103035Z
LAST-MODIFIED:20250225T124454Z
UID:3227-1741460400-1741469400@www.lechevaldanslarbre.fr
SUMMARY:Lecture à  la médiathèque de Montesquieu des Albères - Samedi 8 mars à 19h
DESCRIPTION:Journée Internationale des Droits des Femmes à la médiathèque de Montesquieu-des-Albères 📚✨ \nParticipez à une lecture d’extraits de livres écrits par des femmes et abordant le thème du féminisme\, suivie d’une vente de livres. \n📅 Date : Samedi 8 mars à 19h📍 Lieu : Médiathèque de Montesquieu-les-Albères\n⚠️ Info pratique : En raison du carnaval\, la librairie sera fermée l’après-midi.
URL:https://www.lechevaldanslarbre.fr/event/samedi-8-mars-a-19h-lecture-a-montesquieu-les-alberes/
CATEGORIES:Les sorties de la librairie
ATTACH;FMTTYPE=image/jpeg:https://www.lechevaldanslarbre.fr/wp-content/uploads/2025/02/montesquieu-e1740389491477.jpg
END:VEVENT
END:VCALENDAR