BEGIN:VCALENDAR
VERSION:2.0
PRODID:-//Le Cheval dans l&#039;Arbre - ECPv6.15.11//NONSGML v1.0//EN
CALSCALE:GREGORIAN
METHOD:PUBLISH
X-ORIGINAL-URL:https://www.lechevaldanslarbre.fr
X-WR-CALDESC:Évènements pour Le Cheval dans l&#039;Arbre
REFRESH-INTERVAL;VALUE=DURATION:PT1H
X-Robots-Tag:noindex
X-PUBLISHED-TTL:PT1H
BEGIN:VTIMEZONE
TZID:Europe/Paris
BEGIN:DAYLIGHT
TZOFFSETFROM:+0100
TZOFFSETTO:+0200
TZNAME:CEST
DTSTART:20240331T010000
END:DAYLIGHT
BEGIN:STANDARD
TZOFFSETFROM:+0200
TZOFFSETTO:+0100
TZNAME:CET
DTSTART:20241027T010000
END:STANDARD
BEGIN:DAYLIGHT
TZOFFSETFROM:+0100
TZOFFSETTO:+0200
TZNAME:CEST
DTSTART:20250330T010000
END:DAYLIGHT
BEGIN:STANDARD
TZOFFSETFROM:+0200
TZOFFSETTO:+0100
TZNAME:CET
DTSTART:20251026T010000
END:STANDARD
BEGIN:DAYLIGHT
TZOFFSETFROM:+0100
TZOFFSETTO:+0200
TZNAME:CEST
DTSTART:20260329T010000
END:DAYLIGHT
BEGIN:STANDARD
TZOFFSETFROM:+0200
TZOFFSETTO:+0100
TZNAME:CET
DTSTART:20261025T010000
END:STANDARD
END:VTIMEZONE
BEGIN:VEVENT
DTSTART;TZID=Europe/Paris:20250322T160000
DTEND;TZID=Europe/Paris:20250322T183000
DTSTAMP:20260422T082005
CREATED:20250224T093052Z
LAST-MODIFIED:20250225T132558Z
UID:3262-1742659200-1742668200@www.lechevaldanslarbre.fr
SUMMARY:Performance et dédicace avec Hortense Raynal – Samedi 22 mars
DESCRIPTION:La Compagnie Pas de Porte vous invite à une performance exceptionnelle d’Hortense Raynal au musée\, suivie d’un moment convivial et d’une séance de dédicace à la librairie Le Cheval dans l’Arbre. \n📅 Samedi 22 mars📍 16h – Musée : Performance d’Hortense Raynal📍 17h – Librairie Le Cheval dans l’Arbre : Pot & dédicace \nL’autrice vous attend pour échanger autour de son œuvre. \nVenez partager cette rencontre artistique et littéraire unique ! ✨
URL:https://www.lechevaldanslarbre.fr/event/performance-dedicace-avec-hortense-raynal-samedi-22-mars/
CATEGORIES:Les sorties de la librairie
ATTACH;FMTTYPE=image/jpeg:https://www.lechevaldanslarbre.fr/wp-content/uploads/2025/02/hortense-raynal.jpg
END:VEVENT
END:VCALENDAR