BEGIN:VCALENDAR
VERSION:2.0
PRODID:-//Le Cheval dans l&#039;Arbre - ECPv6.15.11//NONSGML v1.0//EN
CALSCALE:GREGORIAN
METHOD:PUBLISH
X-ORIGINAL-URL:https://www.lechevaldanslarbre.fr
X-WR-CALDESC:Évènements pour Le Cheval dans l&#039;Arbre
REFRESH-INTERVAL;VALUE=DURATION:PT1H
X-Robots-Tag:noindex
X-PUBLISHED-TTL:PT1H
BEGIN:VTIMEZONE
TZID:Europe/Paris
BEGIN:DAYLIGHT
TZOFFSETFROM:+0100
TZOFFSETTO:+0200
TZNAME:CEST
DTSTART:20240331T010000
END:DAYLIGHT
BEGIN:STANDARD
TZOFFSETFROM:+0200
TZOFFSETTO:+0100
TZNAME:CET
DTSTART:20241027T010000
END:STANDARD
BEGIN:DAYLIGHT
TZOFFSETFROM:+0100
TZOFFSETTO:+0200
TZNAME:CEST
DTSTART:20250330T010000
END:DAYLIGHT
BEGIN:STANDARD
TZOFFSETFROM:+0200
TZOFFSETTO:+0100
TZNAME:CET
DTSTART:20251026T010000
END:STANDARD
BEGIN:DAYLIGHT
TZOFFSETFROM:+0100
TZOFFSETTO:+0200
TZNAME:CEST
DTSTART:20260329T010000
END:DAYLIGHT
BEGIN:STANDARD
TZOFFSETFROM:+0200
TZOFFSETTO:+0100
TZNAME:CET
DTSTART:20261025T010000
END:STANDARD
END:VTIMEZONE
BEGIN:VEVENT
DTSTART;TZID=Europe/Paris:20250329T160000
DTEND;TZID=Europe/Paris:20250329T183000
DTSTAMP:20260422T082005
CREATED:20250224T090026Z
LAST-MODIFIED:20250225T132536Z
UID:3265-1743264000-1743273000@www.lechevaldanslarbre.fr
SUMMARY:Performance et dédicace avec Eduard Escoffet – Samedi 29 mars
DESCRIPTION:La Compagnie Pas de Porte vous propose une rencontre avec l’univers poétique d’Eduard Escoffet à travers une performance au musée\, suivie d’un pot et d’une séance de dédicace à la librairie Le Cheval dans l’Arbre. \n📅 Samedi 29 mars📍 16h – Musée : Performance d’Eduard Escoffet📍 17h – Librairie Le Cheval dans l’Arbre : Pot & dédicace \nLes ouvrages d’Eduard Escoffet\, en catalan seront disponibles pour la dédicace. \nUn rendez-vous à ne pas manquer pour les amateurs de poésie et de littérature catalane ! 📖✨
URL:https://www.lechevaldanslarbre.fr/event/performance-dedicace-avec-eduard-escoffet-samedi-29-mars/
CATEGORIES:Les sorties de la librairie
ATTACH;FMTTYPE=image/jpeg:https://www.lechevaldanslarbre.fr/wp-content/uploads/2025/02/300px-Eduard_escoffet_-_eslovenia_2012.jpg
END:VEVENT
END:VCALENDAR