BEGIN:VCALENDAR
VERSION:2.0
PRODID:-//Le Cheval dans l&#039;Arbre - ECPv6.15.11//NONSGML v1.0//EN
CALSCALE:GREGORIAN
METHOD:PUBLISH
X-WR-CALNAME:Le Cheval dans l&#039;Arbre
X-ORIGINAL-URL:https://www.lechevaldanslarbre.fr
X-WR-CALDESC:Évènements pour Le Cheval dans l&#039;Arbre
REFRESH-INTERVAL;VALUE=DURATION:PT1H
X-Robots-Tag:noindex
X-PUBLISHED-TTL:PT1H
BEGIN:VTIMEZONE
TZID:Europe/Paris
BEGIN:DAYLIGHT
TZOFFSETFROM:+0100
TZOFFSETTO:+0200
TZNAME:CEST
DTSTART:20240331T010000
END:DAYLIGHT
BEGIN:STANDARD
TZOFFSETFROM:+0200
TZOFFSETTO:+0100
TZNAME:CET
DTSTART:20241027T010000
END:STANDARD
BEGIN:DAYLIGHT
TZOFFSETFROM:+0100
TZOFFSETTO:+0200
TZNAME:CEST
DTSTART:20250330T010000
END:DAYLIGHT
BEGIN:STANDARD
TZOFFSETFROM:+0200
TZOFFSETTO:+0100
TZNAME:CET
DTSTART:20251026T010000
END:STANDARD
BEGIN:DAYLIGHT
TZOFFSETFROM:+0100
TZOFFSETTO:+0200
TZNAME:CEST
DTSTART:20260329T010000
END:DAYLIGHT
BEGIN:STANDARD
TZOFFSETFROM:+0200
TZOFFSETTO:+0100
TZNAME:CET
DTSTART:20261025T010000
END:STANDARD
END:VTIMEZONE
BEGIN:VEVENT
DTSTART;TZID=Europe/Paris:20250527T190000
DTEND;TZID=Europe/Paris:20250527T210000
DTSTAMP:20260420T103820
CREATED:20250522T063816Z
LAST-MODIFIED:20250522T063816Z
UID:3447-1748372400-1748379600@www.lechevaldanslarbre.fr
SUMMARY:Rencontre bilingue avec la Coopérative Culturelle Rocaguinarda - Mardi 27 mai à 19h
DESCRIPTION:Rencontre bilingue avec la Coopérative Culturelle Rocaguinarda qui rend hommage à ce génial dessinateur\, créateur de PIF le chien.\nAvec l’auteur\, Angel Campabadal et Jaume Capdevila\, Kap
URL:https://www.lechevaldanslarbre.fr/event/rencontre-bilingue-avec-la-cooperative-culturelle-rocaguinarda-mardi-27-mai-a-19h/
CATEGORIES:Signatures d'auteurs
ATTACH;FMTTYPE=image/jpeg:https://www.lechevaldanslarbre.fr/wp-content/uploads/2025/05/affiche_cheval_arnal_3-e1747895890495.jpg
END:VEVENT
END:VCALENDAR