BEGIN:VCALENDAR
VERSION:2.0
PRODID:-//Le Cheval dans l&#039;Arbre - ECPv6.15.11//NONSGML v1.0//EN
CALSCALE:GREGORIAN
METHOD:PUBLISH
X-ORIGINAL-URL:https://www.lechevaldanslarbre.fr
X-WR-CALDESC:Évènements pour Le Cheval dans l&#039;Arbre
REFRESH-INTERVAL;VALUE=DURATION:PT1H
X-Robots-Tag:noindex
X-PUBLISHED-TTL:PT1H
BEGIN:VTIMEZONE
TZID:Europe/Paris
BEGIN:DAYLIGHT
TZOFFSETFROM:+0100
TZOFFSETTO:+0200
TZNAME:CEST
DTSTART:20240331T010000
END:DAYLIGHT
BEGIN:STANDARD
TZOFFSETFROM:+0200
TZOFFSETTO:+0100
TZNAME:CET
DTSTART:20241027T010000
END:STANDARD
BEGIN:DAYLIGHT
TZOFFSETFROM:+0100
TZOFFSETTO:+0200
TZNAME:CEST
DTSTART:20250330T010000
END:DAYLIGHT
BEGIN:STANDARD
TZOFFSETFROM:+0200
TZOFFSETTO:+0100
TZNAME:CET
DTSTART:20251026T010000
END:STANDARD
BEGIN:DAYLIGHT
TZOFFSETFROM:+0100
TZOFFSETTO:+0200
TZNAME:CEST
DTSTART:20260329T010000
END:DAYLIGHT
BEGIN:STANDARD
TZOFFSETFROM:+0200
TZOFFSETTO:+0100
TZNAME:CET
DTSTART:20261025T010000
END:STANDARD
END:VTIMEZONE
BEGIN:VEVENT
DTSTART;TZID=Europe/Paris:20250531T100000
DTEND;TZID=Europe/Paris:20250531T120000
DTSTAMP:20260420T105827
CREATED:20250430T113236Z
LAST-MODIFIED:20250430T113301Z
UID:3380-1748685600-1748692800@www.lechevaldanslarbre.fr
SUMMARY:Dédicace de Brice Artieri pour « Le Projet A.T.L.A.S. - Les Enquêtes d’Ambre » – Samedi 31 mai 10h-12h
DESCRIPTION:Le samedi 31 mai\, de 10h à 12h\, la librairie accueille Brice Artieri\, artiste-graphiste\, pour une séance de dédicace accompagnée de croquis en direct autour de la bande-dessinée « Les Enquêtes d’Ambre »\, son dernier projet manga/comics. \nVenez découvrir cet auteur qui échangera avec vous sur sa passion pour le dessin et l’illustration et sur le processus créatif derrière son œuvre.
URL:https://www.lechevaldanslarbre.fr/event/dedicace-de-brice-artieri-pour-le-projet-a-t-l-a-s-les-enquetes-dambre-samedi-31-mai-10h-12h/
CATEGORIES:Signatures d'auteurs
ATTACH;FMTTYPE=image/jpeg:https://www.lechevaldanslarbre.fr/wp-content/uploads/2025/04/Les-enquetes-dAmbre_001-1-scaled-1-e1746012775736.jpg
END:VEVENT
END:VCALENDAR