BEGIN:VCALENDAR
VERSION:2.0
PRODID:-//Le Cheval dans l&#039;Arbre - ECPv6.15.11//NONSGML v1.0//EN
CALSCALE:GREGORIAN
METHOD:PUBLISH
X-ORIGINAL-URL:https://www.lechevaldanslarbre.fr
X-WR-CALDESC:Évènements pour Le Cheval dans l&#039;Arbre
REFRESH-INTERVAL;VALUE=DURATION:PT1H
X-Robots-Tag:noindex
X-PUBLISHED-TTL:PT1H
BEGIN:VTIMEZONE
TZID:Europe/Paris
BEGIN:DAYLIGHT
TZOFFSETFROM:+0100
TZOFFSETTO:+0200
TZNAME:CEST
DTSTART:20240331T010000
END:DAYLIGHT
BEGIN:STANDARD
TZOFFSETFROM:+0200
TZOFFSETTO:+0100
TZNAME:CET
DTSTART:20241027T010000
END:STANDARD
BEGIN:DAYLIGHT
TZOFFSETFROM:+0100
TZOFFSETTO:+0200
TZNAME:CEST
DTSTART:20250330T010000
END:DAYLIGHT
BEGIN:STANDARD
TZOFFSETFROM:+0200
TZOFFSETTO:+0100
TZNAME:CET
DTSTART:20251026T010000
END:STANDARD
BEGIN:DAYLIGHT
TZOFFSETFROM:+0100
TZOFFSETTO:+0200
TZNAME:CEST
DTSTART:20260329T010000
END:DAYLIGHT
BEGIN:STANDARD
TZOFFSETFROM:+0200
TZOFFSETTO:+0100
TZNAME:CET
DTSTART:20261025T010000
END:STANDARD
END:VTIMEZONE
BEGIN:VEVENT
DTSTART;TZID=Europe/Paris:20250613T180000
DTEND;TZID=Europe/Paris:20250615T193000
DTSTAMP:20260420T104300
CREATED:20250528T124502Z
LAST-MODIFIED:20250528T124415Z
UID:3470-1749837600-1750015800@www.lechevaldanslarbre.fr
SUMMARY:Festival Littéraire La Moisson à Céret – 13\, 14 et 15 juin
DESCRIPTION:Pour la 5 ème édition l’association Pas de Porte organise son festival La Moisson ! Retrouvez tout au long du weekend\, des ateliers\, des lectures de correspondances d’artistes\, des entretiens\, des rencontres\, des spectacles\, ainsi que des séances de signatures auxquelles participera Le Cheval de L’arbre.\nAuteurs invités : Louis-Philippe Dalembert / Joan-Lluís Lluís / Carole Martinez\nRetrouvez le programme détaillé ici : Programme 2025 | La Moisson
URL:https://www.lechevaldanslarbre.fr/event/festival-litteraire-la-moisson-a-ceret-13-14-et-15-juin/
CATEGORIES:Les sorties de la librairie
ATTACH;FMTTYPE=image/jpeg:https://www.lechevaldanslarbre.fr/wp-content/uploads/2025/05/1748427412.2025.affichea3.1-e1748435693402.jpg
END:VEVENT
END:VCALENDAR