BEGIN:VCALENDAR
VERSION:2.0
PRODID:-//Le Cheval dans l&#039;Arbre - ECPv6.15.11//NONSGML v1.0//EN
CALSCALE:GREGORIAN
METHOD:PUBLISH
X-ORIGINAL-URL:https://www.lechevaldanslarbre.fr
X-WR-CALDESC:Évènements pour Le Cheval dans l&#039;Arbre
REFRESH-INTERVAL;VALUE=DURATION:PT1H
X-Robots-Tag:noindex
X-PUBLISHED-TTL:PT1H
BEGIN:VTIMEZONE
TZID:Europe/Paris
BEGIN:DAYLIGHT
TZOFFSETFROM:+0100
TZOFFSETTO:+0200
TZNAME:CEST
DTSTART:20240331T010000
END:DAYLIGHT
BEGIN:STANDARD
TZOFFSETFROM:+0200
TZOFFSETTO:+0100
TZNAME:CET
DTSTART:20241027T010000
END:STANDARD
BEGIN:DAYLIGHT
TZOFFSETFROM:+0100
TZOFFSETTO:+0200
TZNAME:CEST
DTSTART:20250330T010000
END:DAYLIGHT
BEGIN:STANDARD
TZOFFSETFROM:+0200
TZOFFSETTO:+0100
TZNAME:CET
DTSTART:20251026T010000
END:STANDARD
BEGIN:DAYLIGHT
TZOFFSETFROM:+0100
TZOFFSETTO:+0200
TZNAME:CEST
DTSTART:20260329T010000
END:DAYLIGHT
BEGIN:STANDARD
TZOFFSETFROM:+0200
TZOFFSETTO:+0100
TZNAME:CET
DTSTART:20261025T010000
END:STANDARD
END:VTIMEZONE
BEGIN:VEVENT
DTSTART;TZID=Europe/Paris:20250621T100000
DTEND;TZID=Europe/Paris:20250621T113000
DTSTAMP:20260420T104333
CREATED:20250528T123952Z
LAST-MODIFIED:20250528T130113Z
UID:3479-1750500000-1750505400@www.lechevaldanslarbre.fr
SUMMARY:Atelier d’écriture créative spécial Fête de la Musique par Alice Méchain à la librairie – Samedi 21 juin de 10h-11h30
DESCRIPTION:Offrez à vos enfants et ados un temps d’exploration ludique de leur créativité pendant que vous allez au marché de Céret ! Alice prendra bien soin d’eux et partagera avec eux le secret des mots pour créer leur propre musique.\nÀ partir de 8-9 ans\, les inscriptions se font au prix de 12€\nAttention\, places limitées à 10 participants. Ne tardez pas !
URL:https://www.lechevaldanslarbre.fr/event/atelier-decriture-creative-special-fete-de-la-musique-par-alice-mechain-a-la-librairie-samedi-21-juin-de-10h-11h30/
CATEGORIES:Signatures d'auteurs
ATTACH;FMTTYPE=image/jpeg:https://www.lechevaldanslarbre.fr/wp-content/uploads/2025/05/Opera-Instantane_2025-05-28_143928_www.instagram.com_-e1748436008735.jpg
END:VEVENT
END:VCALENDAR