BEGIN:VCALENDAR
VERSION:2.0
PRODID:-//Le Cheval dans l&#039;Arbre - ECPv6.15.11//NONSGML v1.0//EN
CALSCALE:GREGORIAN
METHOD:PUBLISH
X-WR-CALNAME:Le Cheval dans l&#039;Arbre
X-ORIGINAL-URL:https://www.lechevaldanslarbre.fr
X-WR-CALDESC:Évènements pour Le Cheval dans l&#039;Arbre
REFRESH-INTERVAL;VALUE=DURATION:PT1H
X-Robots-Tag:noindex
X-PUBLISHED-TTL:PT1H
BEGIN:VTIMEZONE
TZID:Europe/Paris
BEGIN:DAYLIGHT
TZOFFSETFROM:+0100
TZOFFSETTO:+0200
TZNAME:CEST
DTSTART:20240331T010000
END:DAYLIGHT
BEGIN:STANDARD
TZOFFSETFROM:+0200
TZOFFSETTO:+0100
TZNAME:CET
DTSTART:20241027T010000
END:STANDARD
BEGIN:DAYLIGHT
TZOFFSETFROM:+0100
TZOFFSETTO:+0200
TZNAME:CEST
DTSTART:20250330T010000
END:DAYLIGHT
BEGIN:STANDARD
TZOFFSETFROM:+0200
TZOFFSETTO:+0100
TZNAME:CET
DTSTART:20251026T010000
END:STANDARD
BEGIN:DAYLIGHT
TZOFFSETFROM:+0100
TZOFFSETTO:+0200
TZNAME:CEST
DTSTART:20260329T010000
END:DAYLIGHT
BEGIN:STANDARD
TZOFFSETFROM:+0200
TZOFFSETTO:+0100
TZNAME:CET
DTSTART:20261025T010000
END:STANDARD
END:VTIMEZONE
BEGIN:VEVENT
DTSTART;TZID=Europe/Paris:20250719T153000
DTEND;TZID=Europe/Paris:20250719T173000
DTSTAMP:20260420T090316
CREATED:20250710T132853Z
LAST-MODIFIED:20250710T132754Z
UID:3540-1752939000-1752946200@www.lechevaldanslarbre.fr
SUMMARY:Dédicace de Claudie Hunzinger – Samedi 19 juillet 15h30-17h30 à la librairie
DESCRIPTION:Venez retrouver\, à la Librairie\, Claudie Hunzinger\, artiste plasticienne et écrivaine\, lauréate du Prix Femina en 2022\, pour une dédicace de ses dernières publications.  \nLa rencontre sera suivie à 18h du vernissage de l’exposition « traits de nature » de Claudie Hunzinger et Anne-Marie Klénès à l’Espace Entrevue\, 32 rue du Commerce à Céret.  \nExtrait de son dernier roman « Il neige sur le pianiste » :« J’ignorais que le musicien venait de tomber dans le cercle magique annoncé quelques minutes plus tôt par le renard\, qu’il s’agirait d’un bizarre roman d’amour\, qu’il en serait le personnage\, et qu’avec le renard ça m’en ferait deux\, et que jusqu’à la fin je ne saurais pas lequel des deux j’allais aimer le plus. » 
URL:https://www.lechevaldanslarbre.fr/event/dedicace-claudie-hunzinger-samedi-19-juillet-de-15h30-a-la-librairie-2/
CATEGORIES:Signatures d'auteurs
ATTACH;FMTTYPE=image/png:https://www.lechevaldanslarbre.fr/wp-content/uploads/2025/07/claudie.png
END:VEVENT
END:VCALENDAR