BEGIN:VCALENDAR
VERSION:2.0
PRODID:-//Le Cheval dans l&#039;Arbre - ECPv6.15.11//NONSGML v1.0//EN
CALSCALE:GREGORIAN
METHOD:PUBLISH
X-WR-CALNAME:Le Cheval dans l&#039;Arbre
X-ORIGINAL-URL:https://www.lechevaldanslarbre.fr
X-WR-CALDESC:Évènements pour Le Cheval dans l&#039;Arbre
REFRESH-INTERVAL;VALUE=DURATION:PT1H
X-Robots-Tag:noindex
X-PUBLISHED-TTL:PT1H
BEGIN:VTIMEZONE
TZID:Europe/Paris
BEGIN:DAYLIGHT
TZOFFSETFROM:+0100
TZOFFSETTO:+0200
TZNAME:CEST
DTSTART:20240331T010000
END:DAYLIGHT
BEGIN:STANDARD
TZOFFSETFROM:+0200
TZOFFSETTO:+0100
TZNAME:CET
DTSTART:20241027T010000
END:STANDARD
BEGIN:DAYLIGHT
TZOFFSETFROM:+0100
TZOFFSETTO:+0200
TZNAME:CEST
DTSTART:20250330T010000
END:DAYLIGHT
BEGIN:STANDARD
TZOFFSETFROM:+0200
TZOFFSETTO:+0100
TZNAME:CET
DTSTART:20251026T010000
END:STANDARD
BEGIN:DAYLIGHT
TZOFFSETFROM:+0100
TZOFFSETTO:+0200
TZNAME:CEST
DTSTART:20260329T010000
END:DAYLIGHT
BEGIN:STANDARD
TZOFFSETFROM:+0200
TZOFFSETTO:+0100
TZNAME:CET
DTSTART:20261025T010000
END:STANDARD
END:VTIMEZONE
BEGIN:VEVENT
DTSTART;TZID=Europe/Paris:20250722T183000
DTEND;TZID=Europe/Paris:20250722T203000
DTSTAMP:20260420T090249
CREATED:20250710T132606Z
LAST-MODIFIED:20250710T132543Z
UID:3542-1753209000-1753216200@www.lechevaldanslarbre.fr
SUMMARY:Rencontre avec Jean Boissée autour de son ouvrage « Le système des tours à signaux des Pyrénées-Orientales » – Mardi 22 juillet 18h30-20h à la librairie
DESCRIPTION:Avec ce livre\, l’auteur\, autodidacte amoureux des vieilles pierres et passionné par l’histoire des Pyrénées-Orientales\, nous propose de découvrir non pas les tours à signaux\, mais l’ensemble du dispositif qui a été utilisé pour alerter en cas d’invasions ennemies. \nIl y avait bien sûr les tours à signaux\, mais aussi les châteaux\, les Villes-fortes\, les églises fortifiées et les chapelles dîtes « chapelles-observatoires ». \n 
URL:https://www.lechevaldanslarbre.fr/event/rencontre-jean-boissee-ouvrage-le-systeme-de-tours-a-signaux-mardi-22-juillet-18h30-20h00-a-la-librairie/
CATEGORIES:Signatures d'auteurs
ATTACH;FMTTYPE=image/webp:https://www.lechevaldanslarbre.fr/wp-content/uploads/2025/07/tours_a_signaux-1.webp
END:VEVENT
END:VCALENDAR