BEGIN:VCALENDAR
VERSION:2.0
PRODID:-//Le Cheval dans l&#039;Arbre - ECPv6.15.11//NONSGML v1.0//EN
CALSCALE:GREGORIAN
METHOD:PUBLISH
X-ORIGINAL-URL:https://www.lechevaldanslarbre.fr
X-WR-CALDESC:Évènements pour Le Cheval dans l&#039;Arbre
REFRESH-INTERVAL;VALUE=DURATION:PT1H
X-Robots-Tag:noindex
X-PUBLISHED-TTL:PT1H
BEGIN:VTIMEZONE
TZID:Europe/Paris
BEGIN:DAYLIGHT
TZOFFSETFROM:+0100
TZOFFSETTO:+0200
TZNAME:CEST
DTSTART:20240331T010000
END:DAYLIGHT
BEGIN:STANDARD
TZOFFSETFROM:+0200
TZOFFSETTO:+0100
TZNAME:CET
DTSTART:20241027T010000
END:STANDARD
BEGIN:DAYLIGHT
TZOFFSETFROM:+0100
TZOFFSETTO:+0200
TZNAME:CEST
DTSTART:20250330T010000
END:DAYLIGHT
BEGIN:STANDARD
TZOFFSETFROM:+0200
TZOFFSETTO:+0100
TZNAME:CET
DTSTART:20251026T010000
END:STANDARD
BEGIN:DAYLIGHT
TZOFFSETFROM:+0100
TZOFFSETTO:+0200
TZNAME:CEST
DTSTART:20260329T010000
END:DAYLIGHT
BEGIN:STANDARD
TZOFFSETFROM:+0200
TZOFFSETTO:+0100
TZNAME:CET
DTSTART:20261025T010000
END:STANDARD
END:VTIMEZONE
BEGIN:VEVENT
DTSTART;VALUE=DATE:20250731
DTEND;VALUE=DATE:20250804
DTSTAMP:20260420T073919
CREATED:20250710T131907Z
LAST-MODIFIED:20250710T131907Z
UID:3555-1753920000-1754265599@www.lechevaldanslarbre.fr
SUMMARY:Participation au Festival 543 - Du 31 juillet au 3 août à Coustouges
DESCRIPTION:Comme chaque année\, le Cheval dans l’Arbre sera présent au Festival 543\, le théâtre en Haut Vallespir.\nConstruite autour de l’anniversaire des 30 ans du pont qui relie le pays catalan du nord au sud\, l’édition 6 du festival 543 explore le thème de la frontière et de l’exil\, à travers la littérature et le théâtre\, mais aussi la photographie\, la vidéo\, le dessin en direct et le cinéma.\nAu programme: https://festival543.fr/programme-edition-n6-juillet-aout-2025/
URL:https://www.lechevaldanslarbre.fr/event/festival-543-coustuges-31-juillet-3-aout-2/
CATEGORIES:Les sorties de la librairie
ATTACH;FMTTYPE=image/png:https://www.lechevaldanslarbre.fr/wp-content/uploads/2025/07/festival_543.png
END:VEVENT
END:VCALENDAR