BEGIN:VCALENDAR
VERSION:2.0
PRODID:-//Le Cheval dans l&#039;Arbre - ECPv6.15.11//NONSGML v1.0//EN
CALSCALE:GREGORIAN
METHOD:PUBLISH
X-WR-CALNAME:Le Cheval dans l&#039;Arbre
X-ORIGINAL-URL:https://www.lechevaldanslarbre.fr
X-WR-CALDESC:Évènements pour Le Cheval dans l&#039;Arbre
REFRESH-INTERVAL;VALUE=DURATION:PT1H
X-Robots-Tag:noindex
X-PUBLISHED-TTL:PT1H
BEGIN:VTIMEZONE
TZID:Europe/Paris
BEGIN:DAYLIGHT
TZOFFSETFROM:+0100
TZOFFSETTO:+0200
TZNAME:CEST
DTSTART:20240331T010000
END:DAYLIGHT
BEGIN:STANDARD
TZOFFSETFROM:+0200
TZOFFSETTO:+0100
TZNAME:CET
DTSTART:20241027T010000
END:STANDARD
BEGIN:DAYLIGHT
TZOFFSETFROM:+0100
TZOFFSETTO:+0200
TZNAME:CEST
DTSTART:20250330T010000
END:DAYLIGHT
BEGIN:STANDARD
TZOFFSETFROM:+0200
TZOFFSETTO:+0100
TZNAME:CET
DTSTART:20251026T010000
END:STANDARD
BEGIN:DAYLIGHT
TZOFFSETFROM:+0100
TZOFFSETTO:+0200
TZNAME:CEST
DTSTART:20260329T010000
END:DAYLIGHT
BEGIN:STANDARD
TZOFFSETFROM:+0200
TZOFFSETTO:+0100
TZNAME:CET
DTSTART:20261025T010000
END:STANDARD
END:VTIMEZONE
BEGIN:VEVENT
DTSTART;TZID=Europe/Paris:20250823T100000
DTEND;TZID=Europe/Paris:20250823T123000
DTSTAMP:20260420T073502
CREATED:20250710T085738Z
LAST-MODIFIED:20250710T131743Z
UID:3553-1755943200-1755952200@www.lechevaldanslarbre.fr
SUMMARY:Dédicace de Stéphane Sazé pour « Allez tous vous faire plaisir ! » – Samedi 23 août 10h-12h à la librairie
DESCRIPTION:Ce livre est bien plus qu’un recueil de citations inspirantes\, c’est un recueil de pensées et d’émotions où chacun peut se retrouver. \nLes expériences de vie que l’auteur dévoile avec lucidité et justesse nous incitent à réfléchir sur des thèmes tels que l’humanité\, l’amour et le bonheur. \nDécouvrir cet univers plein de surprises ne fera que récompenser notre curiosité.
URL:https://www.lechevaldanslarbre.fr/event/dedicace-de-stephane-saze-samedi-23-aout-1oh00-12h30-a-la-librairie/
CATEGORIES:Signatures d'auteurs
ATTACH;FMTTYPE=image/jpeg:https://www.lechevaldanslarbre.fr/wp-content/uploads/2025/07/20250710_101808-e1752137801704.jpg
END:VEVENT
END:VCALENDAR