BEGIN:VCALENDAR
VERSION:2.0
PRODID:-//Le Cheval dans l&#039;Arbre - ECPv6.15.11//NONSGML v1.0//EN
CALSCALE:GREGORIAN
METHOD:PUBLISH
X-ORIGINAL-URL:https://www.lechevaldanslarbre.fr
X-WR-CALDESC:Évènements pour Le Cheval dans l&#039;Arbre
REFRESH-INTERVAL;VALUE=DURATION:PT1H
X-Robots-Tag:noindex
X-PUBLISHED-TTL:PT1H
BEGIN:VTIMEZONE
TZID:Europe/Paris
BEGIN:DAYLIGHT
TZOFFSETFROM:+0100
TZOFFSETTO:+0200
TZNAME:CEST
DTSTART:20240331T010000
END:DAYLIGHT
BEGIN:STANDARD
TZOFFSETFROM:+0200
TZOFFSETTO:+0100
TZNAME:CET
DTSTART:20241027T010000
END:STANDARD
BEGIN:DAYLIGHT
TZOFFSETFROM:+0100
TZOFFSETTO:+0200
TZNAME:CEST
DTSTART:20250330T010000
END:DAYLIGHT
BEGIN:STANDARD
TZOFFSETFROM:+0200
TZOFFSETTO:+0100
TZNAME:CET
DTSTART:20251026T010000
END:STANDARD
BEGIN:DAYLIGHT
TZOFFSETFROM:+0100
TZOFFSETTO:+0200
TZNAME:CEST
DTSTART:20260329T010000
END:DAYLIGHT
BEGIN:STANDARD
TZOFFSETFROM:+0200
TZOFFSETTO:+0100
TZNAME:CET
DTSTART:20261025T010000
END:STANDARD
END:VTIMEZONE
BEGIN:VEVENT
DTSTART;TZID=Europe/Paris:20251118T190000
DTEND;TZID=Europe/Paris:20251118T203000
DTSTAMP:20260420T024708
CREATED:20251028T170855Z
LAST-MODIFIED:20251028T170855Z
UID:3624-1763492400-1763497800@www.lechevaldanslarbre.fr
SUMMARY:Récital de contes par Clément Riot – Mardi 18 novembre à 19h à la librairie
DESCRIPTION:Clément Riot\, conteur-auteur-compositeur\, présentera et contera son dernier ouvrage « Contes des cinq sens »\, recueil de contes\, chacun consacré\, principalement ou en partie\, à l’un des cinq sens. \nCes contes relèvent aussi de genres différents et peuvent correspondre à des tranches d’âge différentes. \n 
URL:https://www.lechevaldanslarbre.fr/event/recital-de-contes-par-clement-riot-mardi-18-novembre-a-19h-a-la-librairie/
LOCATION:Librairie\, 1 Avenue Michel Aribaud\, CERET\, 66400\, France
CATEGORIES:Signatures d'auteurs
ATTACH;FMTTYPE=image/png:https://www.lechevaldanslarbre.fr/wp-content/uploads/2025/10/Contes_des_cinq_sens-1.png
ORGANIZER;CN="Librairie Le Cheval dans l'Arbre":MAILTO:librairie@lechevaldanslarbre.fr
END:VEVENT
END:VCALENDAR