BEGIN:VCALENDAR
VERSION:2.0
PRODID:-//Le Cheval dans l&#039;Arbre - ECPv6.15.11//NONSGML v1.0//EN
CALSCALE:GREGORIAN
METHOD:PUBLISH
X-WR-CALNAME:Le Cheval dans l&#039;Arbre
X-ORIGINAL-URL:https://www.lechevaldanslarbre.fr
X-WR-CALDESC:Évènements pour Le Cheval dans l&#039;Arbre
REFRESH-INTERVAL;VALUE=DURATION:PT1H
X-Robots-Tag:noindex
X-PUBLISHED-TTL:PT1H
BEGIN:VTIMEZONE
TZID:Europe/Paris
BEGIN:DAYLIGHT
TZOFFSETFROM:+0100
TZOFFSETTO:+0200
TZNAME:CEST
DTSTART:20250330T010000
END:DAYLIGHT
BEGIN:STANDARD
TZOFFSETFROM:+0200
TZOFFSETTO:+0100
TZNAME:CET
DTSTART:20251026T010000
END:STANDARD
BEGIN:DAYLIGHT
TZOFFSETFROM:+0100
TZOFFSETTO:+0200
TZNAME:CEST
DTSTART:20260329T010000
END:DAYLIGHT
BEGIN:STANDARD
TZOFFSETFROM:+0200
TZOFFSETTO:+0100
TZNAME:CET
DTSTART:20261025T010000
END:STANDARD
BEGIN:DAYLIGHT
TZOFFSETFROM:+0100
TZOFFSETTO:+0200
TZNAME:CEST
DTSTART:20270328T010000
END:DAYLIGHT
BEGIN:STANDARD
TZOFFSETFROM:+0200
TZOFFSETTO:+0100
TZNAME:CET
DTSTART:20271031T010000
END:STANDARD
END:VTIMEZONE
BEGIN:VEVENT
DTSTART;TZID=Europe/Paris:20260214T100000
DTEND;TZID=Europe/Paris:20260214T120000
DTSTAMP:20260419T215921
CREATED:20260202T001712Z
LAST-MODIFIED:20260202T001712Z
UID:3726-1771063200-1771070400@www.lechevaldanslarbre.fr
SUMMARY:Signature par Joseph Vidalou de son livre « Le sous-fifre » - Samedi 14 février à 10h à la librairie
DESCRIPTION:Joseph Vidalou\, fervent défenseur de la sardane\, a été professeur de flûte traversière au conservatoire de Perpignan puis dispensa des cours en Pays Catalan\, et notamment à l’école municipale de Céret.\n« Le sous-fifre » est l’histoire d’une vie\, celle du jeune Victor qui rêvait de devenir instrumentaliste et professeur de musique. Un livre sur la musique et la transmission du savoir.\nEt aussi « une réflexion intime sur une période de vie particulièrement difficile à négocier avec soi-même lorsque son métier est une passion : Le passage à la retraite ».
URL:https://www.lechevaldanslarbre.fr/event/signature-par-joseph-vidalou-de-son-livre-le-sous-fifre-samedi-14-fevrier-a-10h-a-la-librairie/
LOCATION:Librairie\, 1 Avenue Michel Aribaud\, CERET\, 66400\, France
CATEGORIES:Signatures d'auteurs
ATTACH;FMTTYPE=image/jpeg:https://www.lechevaldanslarbre.fr/wp-content/uploads/2026/02/20260128_174935.jpg
ORGANIZER;CN="Librairie Le Cheval dans l'Arbre":MAILTO:librairie@lechevaldanslarbre.fr
END:VEVENT
END:VCALENDAR