BEGIN:VCALENDAR
VERSION:2.0
PRODID:-//Le Cheval dans l&#039;Arbre - ECPv6.15.11//NONSGML v1.0//EN
CALSCALE:GREGORIAN
METHOD:PUBLISH
X-ORIGINAL-URL:https://www.lechevaldanslarbre.fr
X-WR-CALDESC:Évènements pour Le Cheval dans l&#039;Arbre
REFRESH-INTERVAL;VALUE=DURATION:PT1H
X-Robots-Tag:noindex
X-PUBLISHED-TTL:PT1H
BEGIN:VTIMEZONE
TZID:Europe/Paris
BEGIN:DAYLIGHT
TZOFFSETFROM:+0100
TZOFFSETTO:+0200
TZNAME:CEST
DTSTART:20250330T010000
END:DAYLIGHT
BEGIN:STANDARD
TZOFFSETFROM:+0200
TZOFFSETTO:+0100
TZNAME:CET
DTSTART:20251026T010000
END:STANDARD
BEGIN:DAYLIGHT
TZOFFSETFROM:+0100
TZOFFSETTO:+0200
TZNAME:CEST
DTSTART:20260329T010000
END:DAYLIGHT
BEGIN:STANDARD
TZOFFSETFROM:+0200
TZOFFSETTO:+0100
TZNAME:CET
DTSTART:20261025T010000
END:STANDARD
BEGIN:DAYLIGHT
TZOFFSETFROM:+0100
TZOFFSETTO:+0200
TZNAME:CEST
DTSTART:20270328T010000
END:DAYLIGHT
BEGIN:STANDARD
TZOFFSETFROM:+0200
TZOFFSETTO:+0100
TZNAME:CET
DTSTART:20271031T010000
END:STANDARD
END:VTIMEZONE
BEGIN:VEVENT
DTSTART;TZID=Europe/Paris:20260313T173000
DTEND;TZID=Europe/Paris:20260313T183000
DTSTAMP:20260419T202620
CREATED:20260301T232834Z
LAST-MODIFIED:20260301T232834Z
UID:3752-1773423000-1773426600@www.lechevaldanslarbre.fr
SUMMARY:Rencontre avec George Bartoli autour de l’œuvre de Josep Bartoli - Vendredi 13 mars à 17h30 à la librairie
DESCRIPTION:Dans le cadre de l’atelier écriture organisé par l’association « Les Amis de la Médiathèque »\, le Cheval dans l’Arbre vous invite à rencontrer le photographe George Bartoli\, neveu de Josep Bartoli (1910-1995)\, qui nous fera (re)découvrir l’œuvre de son oncle\, artiste catalan antifranquiste exilé en France dès 1939.
URL:https://www.lechevaldanslarbre.fr/event/rencontre-avec-george-bartoli-autour-de-loeuvre-de-josep-bartoli-vendredi-13-mars-a-17h30-a-la-librairie/
LOCATION:Librairie\, 1 Avenue Michel Aribaud\, CERET\, 66400\, France
CATEGORIES:Rencontres
ATTACH;FMTTYPE=image/jpeg:https://www.lechevaldanslarbre.fr/wp-content/uploads/2026/03/Bartoli_130326.jpg
ORGANIZER;CN="Librairie Le Cheval dans l'Arbre":MAILTO:librairie@lechevaldanslarbre.fr
END:VEVENT
END:VCALENDAR