BEGIN:VCALENDAR
VERSION:2.0
PRODID:-//Le Cheval dans l&#039;Arbre - ECPv6.15.11//NONSGML v1.0//EN
CALSCALE:GREGORIAN
METHOD:PUBLISH
X-WR-CALNAME:Le Cheval dans l&#039;Arbre
X-ORIGINAL-URL:https://www.lechevaldanslarbre.fr
X-WR-CALDESC:Évènements pour Le Cheval dans l&#039;Arbre
REFRESH-INTERVAL;VALUE=DURATION:PT1H
X-Robots-Tag:noindex
X-PUBLISHED-TTL:PT1H
BEGIN:VTIMEZONE
TZID:Europe/Paris
BEGIN:DAYLIGHT
TZOFFSETFROM:+0100
TZOFFSETTO:+0200
TZNAME:CEST
DTSTART:20250330T010000
END:DAYLIGHT
BEGIN:STANDARD
TZOFFSETFROM:+0200
TZOFFSETTO:+0100
TZNAME:CET
DTSTART:20251026T010000
END:STANDARD
BEGIN:DAYLIGHT
TZOFFSETFROM:+0100
TZOFFSETTO:+0200
TZNAME:CEST
DTSTART:20260329T010000
END:DAYLIGHT
BEGIN:STANDARD
TZOFFSETFROM:+0200
TZOFFSETTO:+0100
TZNAME:CET
DTSTART:20261025T010000
END:STANDARD
BEGIN:DAYLIGHT
TZOFFSETFROM:+0100
TZOFFSETTO:+0200
TZNAME:CEST
DTSTART:20270328T010000
END:DAYLIGHT
BEGIN:STANDARD
TZOFFSETFROM:+0200
TZOFFSETTO:+0100
TZNAME:CET
DTSTART:20271031T010000
END:STANDARD
END:VTIMEZONE
BEGIN:VEVENT
DTSTART;TZID=Europe/Paris:20260407T171500
DTEND;TZID=Europe/Paris:20260407T190000
DTSTAMP:20260419T184545
CREATED:20260329T200919Z
LAST-MODIFIED:20260330T153513Z
UID:3780-1775582100-1775588400@www.lechevaldanslarbre.fr
SUMMARY:Lecture par les élèves du Lycée Déodat de Séverac de Céret - Mardi 7 avril à 17h15 à la librairie
DESCRIPTION:Pour la première fois\, la librairie invite les élèves du Lycée Déodat de Séverac pour une lecture à haute voix d’œuvres choisies. Un grand merci à Emma et Rodolphe\, leurs professeurs. \n1 ère Partie avec les élèves hellénistes : lecture de fragments poétiques en grec ancien et leur traduction française. Fragments de la dixième des muses\, traduite par Louise Labé. \n2 ème Partie avec des élèves de Première MVC et de Seconde MRC : lecture d’extraits de “Fêtes Galantes” de Verlaine et de détails biographiques (par Guy Goffette) qui contextualisent les poèmes mettant en avant les relations du poète avec les musiciens. \n            \n 
URL:https://www.lechevaldanslarbre.fr/event/lecture-par-les-eleves-du-lycee-deodat-de-severac-de-ceret-mardi-7-avril-a-17h15-a-la-librairie/
LOCATION:Librairie\, 1 Avenue Michel Aribaud\, CERET\, 66400\, France
CATEGORIES:Rencontres
ATTACH;FMTTYPE=image/jpeg:https://www.lechevaldanslarbre.fr/wp-content/uploads/2026/03/Fetes_galantes.jpg
ORGANIZER;CN="Librairie Le Cheval dans l'Arbre":MAILTO:librairie@lechevaldanslarbre.fr
END:VEVENT
END:VCALENDAR