BEGIN:VCALENDAR
VERSION:2.0
PRODID:-//Le Cheval dans l&#039;Arbre - ECPv6.15.11//NONSGML v1.0//EN
CALSCALE:GREGORIAN
METHOD:PUBLISH
X-WR-CALNAME:Le Cheval dans l&#039;Arbre
X-ORIGINAL-URL:https://www.lechevaldanslarbre.fr
X-WR-CALDESC:Évènements pour Le Cheval dans l&#039;Arbre
REFRESH-INTERVAL;VALUE=DURATION:PT1H
X-Robots-Tag:noindex
X-PUBLISHED-TTL:PT1H
BEGIN:VTIMEZONE
TZID:Europe/Paris
BEGIN:DAYLIGHT
TZOFFSETFROM:+0100
TZOFFSETTO:+0200
TZNAME:CEST
DTSTART:20250330T010000
END:DAYLIGHT
BEGIN:STANDARD
TZOFFSETFROM:+0200
TZOFFSETTO:+0100
TZNAME:CET
DTSTART:20251026T010000
END:STANDARD
BEGIN:DAYLIGHT
TZOFFSETFROM:+0100
TZOFFSETTO:+0200
TZNAME:CEST
DTSTART:20260329T010000
END:DAYLIGHT
BEGIN:STANDARD
TZOFFSETFROM:+0200
TZOFFSETTO:+0100
TZNAME:CET
DTSTART:20261025T010000
END:STANDARD
BEGIN:DAYLIGHT
TZOFFSETFROM:+0100
TZOFFSETTO:+0200
TZNAME:CEST
DTSTART:20270328T010000
END:DAYLIGHT
BEGIN:STANDARD
TZOFFSETFROM:+0200
TZOFFSETTO:+0100
TZNAME:CET
DTSTART:20271031T010000
END:STANDARD
END:VTIMEZONE
BEGIN:VEVENT
DTSTART;TZID=Europe/Paris:20260411T100000
DTEND;TZID=Europe/Paris:20260411T190000
DTSTAMP:20260419T184631
CREATED:20260329T200847Z
LAST-MODIFIED:20260329T200847Z
UID:3771-1775901600-1775934000@www.lechevaldanslarbre.fr
SUMMARY:Participation à la 4ème édition du festival Céret Manga - Samedi 11 avril de 10h à 19h à la Salle de l’Union
DESCRIPTION:Pour les fans de mangas\, d’animés et de culture japonaise\, la librairie proposera une jolie sélection de mangas\, pour les petits et les grands. \n 
URL:https://www.lechevaldanslarbre.fr/event/participation-a-la-4eme-edition-du-festival-ceret-manga-samedi-11-avril-de-10h-a-19h-a-la-salle-de-lunion/
LOCATION:Salle de l’Union
CATEGORIES:Rencontres
ATTACH;FMTTYPE=image/png:https://www.lechevaldanslarbre.fr/wp-content/uploads/2026/03/Ceret_Manga.png
END:VEVENT
END:VCALENDAR