BEGIN:VCALENDAR
VERSION:2.0
PRODID:-//Le Cheval dans l&#039;Arbre - ECPv6.15.11//NONSGML v1.0//EN
CALSCALE:GREGORIAN
METHOD:PUBLISH
X-WR-CALNAME:Le Cheval dans l&#039;Arbre
X-ORIGINAL-URL:https://www.lechevaldanslarbre.fr
X-WR-CALDESC:Évènements pour Le Cheval dans l&#039;Arbre
REFRESH-INTERVAL;VALUE=DURATION:PT1H
X-Robots-Tag:noindex
X-PUBLISHED-TTL:PT1H
BEGIN:VTIMEZONE
TZID:Europe/Paris
BEGIN:DAYLIGHT
TZOFFSETFROM:+0100
TZOFFSETTO:+0200
TZNAME:CEST
DTSTART:20250330T010000
END:DAYLIGHT
BEGIN:STANDARD
TZOFFSETFROM:+0200
TZOFFSETTO:+0100
TZNAME:CET
DTSTART:20251026T010000
END:STANDARD
BEGIN:DAYLIGHT
TZOFFSETFROM:+0100
TZOFFSETTO:+0200
TZNAME:CEST
DTSTART:20260329T010000
END:DAYLIGHT
BEGIN:STANDARD
TZOFFSETFROM:+0200
TZOFFSETTO:+0100
TZNAME:CET
DTSTART:20261025T010000
END:STANDARD
BEGIN:DAYLIGHT
TZOFFSETFROM:+0100
TZOFFSETTO:+0200
TZNAME:CEST
DTSTART:20270328T010000
END:DAYLIGHT
BEGIN:STANDARD
TZOFFSETFROM:+0200
TZOFFSETTO:+0100
TZNAME:CET
DTSTART:20271031T010000
END:STANDARD
END:VTIMEZONE
BEGIN:VEVENT
DTSTART;TZID=Europe/Paris:20260418T100000
DTEND;TZID=Europe/Paris:20260418T120000
DTSTAMP:20260419T171413
CREATED:20260329T200815Z
LAST-MODIFIED:20260329T200815Z
UID:3783-1776506400-1776513600@www.lechevaldanslarbre.fr
SUMMARY:Atelier d’écriture créative « A vos contes : 3\, 2\, 1\, imaginez ! » par Alice Méchain - Samedi 18 avril de 10h à 12h à la librairie
DESCRIPTION:Offrez à vos enfants et ados un temps d’exploration ludique de leur créativité pendant que vous allez au marché de Céret.  \nAlice réveillera le conte qui sommeille en eux ! \nÀ partir de 8-9 ans\, inscription préalable à la librairie au prix de 12€.   \nAttention\, places limitées !
URL:https://www.lechevaldanslarbre.fr/event/atelier-decriture-creative-a-vos-contes-3-2-1-imaginez-par-alice-mechain-samedi-18-avril-de-10h-a-12h-a-la-librairie/
LOCATION:Librairie\, 1 Avenue Michel Aribaud\, CERET\, 66400\, France
CATEGORIES:Ateliers
ATTACH;FMTTYPE=image/png:https://www.lechevaldanslarbre.fr/wp-content/uploads/2026/03/Atelier_ecriture_creative.png
ORGANIZER;CN="Librairie Le Cheval dans l'Arbre":MAILTO:librairie@lechevaldanslarbre.fr
END:VEVENT
END:VCALENDAR