BEGIN:VCALENDAR
VERSION:2.0
PRODID:-//Le Cheval dans l&#039;Arbre - ECPv6.15.11//NONSGML v1.0//EN
CALSCALE:GREGORIAN
METHOD:PUBLISH
X-WR-CALNAME:Le Cheval dans l&#039;Arbre
X-ORIGINAL-URL:https://www.lechevaldanslarbre.fr
X-WR-CALDESC:Évènements pour Le Cheval dans l&#039;Arbre
REFRESH-INTERVAL;VALUE=DURATION:PT1H
X-Robots-Tag:noindex
X-PUBLISHED-TTL:PT1H
BEGIN:VTIMEZONE
TZID:Europe/Paris
BEGIN:DAYLIGHT
TZOFFSETFROM:+0100
TZOFFSETTO:+0200
TZNAME:CEST
DTSTART:20240331T010000
END:DAYLIGHT
BEGIN:STANDARD
TZOFFSETFROM:+0200
TZOFFSETTO:+0100
TZNAME:CET
DTSTART:20241027T010000
END:STANDARD
BEGIN:DAYLIGHT
TZOFFSETFROM:+0100
TZOFFSETTO:+0200
TZNAME:CEST
DTSTART:20250330T010000
END:DAYLIGHT
BEGIN:STANDARD
TZOFFSETFROM:+0200
TZOFFSETTO:+0100
TZNAME:CET
DTSTART:20251026T010000
END:STANDARD
BEGIN:DAYLIGHT
TZOFFSETFROM:+0100
TZOFFSETTO:+0200
TZNAME:CEST
DTSTART:20260329T010000
END:DAYLIGHT
BEGIN:STANDARD
TZOFFSETFROM:+0200
TZOFFSETTO:+0100
TZNAME:CET
DTSTART:20261025T010000
END:STANDARD
END:VTIMEZONE
BEGIN:VEVENT
DTSTART;TZID=Europe/Paris:20250211T100000
DTEND;TZID=Europe/Paris:20250211T120000
DTSTAMP:20260422T045358
CREATED:20250207T111528Z
LAST-MODIFIED:20250210T132831Z
UID:3147-1739268000-1739275200@www.lechevaldanslarbre.fr
SUMMARY:Rencontre - Emmanuel Lascoux - mardi 11 février de 10h à 12h à la salle de l’Union
DESCRIPTION:Après la traduction de l’Odyssée (éditions POL)\, l’auteur Emmanuel Lascoux entame ce qu’il nomme la face nord de l’épopée homérique : l’Iliade. \nUn véritable coup de fouet dans une langue au lyrisme nerveux pour retrouver avec bonheur les batailles des corps et des âmes\, jouets des rancunes divines.
URL:https://www.lechevaldanslarbre.fr/event/emmanuel-lascoux-mardi-11-fevrier-de-10h-a-12h-a-la-salle-de-lunion/
LOCATION:Salle de l’Union
ATTACH;FMTTYPE=image/jpeg:https://www.lechevaldanslarbre.fr/wp-content/uploads/2025/02/iliade-e1738928573650.jpg
END:VEVENT
BEGIN:VEVENT
DTSTART;TZID=Europe/Paris:20250215T143000
DTEND;TZID=Europe/Paris:20250215T170000
DTSTAMP:20260422T045358
CREATED:20250207T111051Z
LAST-MODIFIED:20250210T132810Z
UID:3150-1739629800-1739638800@www.lechevaldanslarbre.fr
SUMMARY:Rencontre - Carles Sarrat - Samedi 15 février à 14h30
DESCRIPTION:Dans notre désir de faire découvrir des auteurs locaux catalanophones\, c’est avec bonheur que nous accueillerons Carles Sarrat\, qui présentera son dernier ouvrage « Canigo Blues »\, récemment paru aux éditions Calligraf Narrativa. \nLa rencontre- dédicace naviguera entre français et catalan pour évoquer ce récit qui nous fait voyager dans les lacets vallespiriens.
URL:https://www.lechevaldanslarbre.fr/event/carles-sarrat-samedi-15-fevrier-a-14h30/
CATEGORIES:Signatures d'auteurs
ATTACH;FMTTYPE=image/jpeg:https://www.lechevaldanslarbre.fr/wp-content/uploads/2025/02/Carles-Sarrat-e1738928778619.jpg
ORGANIZER;CN="Librairie Le Cheval dans l'Arbre":MAILTO:librairie@lechevaldanslarbre.fr
END:VEVENT
BEGIN:VEVENT
DTSTART;TZID=Europe/Paris:20250223T110000
DTEND;TZID=Europe/Paris:20250223T123000
DTSTAMP:20260422T045358
CREATED:20250207T110045Z
LAST-MODIFIED:20250211T082650Z
UID:3162-1740308400-1740313800@www.lechevaldanslarbre.fr
SUMMARY:Brunch – rencontre avec Gérard Davet - Dimanche 23 février à 11h
DESCRIPTION:Brunch – rencontre-signature avec le journaliste-reporter Gérard Davet autour de son ouvrage « Les juges et l’assassin » (éditions Flammarion) \, co-écrit avec Fabrice Lhomme. Une palpitante enquête politico-judiciaire sur les sombres années COVID. \n 
URL:https://www.lechevaldanslarbre.fr/event/brunch-rencontre-signature-avec-gerard-davet-dimanche-23-fevrier-a-11h/
CATEGORIES:Signatures d'auteurs
ATTACH;FMTTYPE=image/jpeg:https://www.lechevaldanslarbre.fr/wp-content/uploads/2025/02/DAVET_Gerard_1_3-e1739262277335.jpg
ORGANIZER;CN="Librairie Le Cheval dans l'Arbre":MAILTO:librairie@lechevaldanslarbre.fr
END:VEVENT
END:VCALENDAR