BEGIN:VCALENDAR
VERSION:2.0
PRODID:-//Le Cheval dans l&#039;Arbre - ECPv6.15.11//NONSGML v1.0//EN
CALSCALE:GREGORIAN
METHOD:PUBLISH
X-ORIGINAL-URL:https://www.lechevaldanslarbre.fr
X-WR-CALDESC:Évènements pour Le Cheval dans l&#039;Arbre
REFRESH-INTERVAL;VALUE=DURATION:PT1H
X-Robots-Tag:noindex
X-PUBLISHED-TTL:PT1H
BEGIN:VTIMEZONE
TZID:Europe/Paris
BEGIN:DAYLIGHT
TZOFFSETFROM:+0100
TZOFFSETTO:+0200
TZNAME:CEST
DTSTART:20240331T010000
END:DAYLIGHT
BEGIN:STANDARD
TZOFFSETFROM:+0200
TZOFFSETTO:+0100
TZNAME:CET
DTSTART:20241027T010000
END:STANDARD
BEGIN:DAYLIGHT
TZOFFSETFROM:+0100
TZOFFSETTO:+0200
TZNAME:CEST
DTSTART:20250330T010000
END:DAYLIGHT
BEGIN:STANDARD
TZOFFSETFROM:+0200
TZOFFSETTO:+0100
TZNAME:CET
DTSTART:20251026T010000
END:STANDARD
BEGIN:DAYLIGHT
TZOFFSETFROM:+0100
TZOFFSETTO:+0200
TZNAME:CEST
DTSTART:20260329T010000
END:DAYLIGHT
BEGIN:STANDARD
TZOFFSETFROM:+0200
TZOFFSETTO:+0100
TZNAME:CET
DTSTART:20261025T010000
END:STANDARD
END:VTIMEZONE
BEGIN:VEVENT
DTSTART;TZID=Europe/Paris:20250607T100000
DTEND;TZID=Europe/Paris:20250607T120000
DTSTAMP:20260420T090545
CREATED:20250528T125539Z
LAST-MODIFIED:20250531T070645Z
UID:3462-1749290400-1749297600@www.lechevaldanslarbre.fr
SUMMARY:Dédicace d’Hélène Casanova pour « Fleurs forestières de printemps » – Samedi 7 juin de 10h-12h à la librairie
DESCRIPTION:Le 18 mars 2020\, le monde s’est arrêté en 24 heures\, mis à genoux par le coronavirus. À la faveur d’un pas de côté en Cerdagne\, j’ai entrepris un voyage immobile. J’ai ouvert les guides botaniques des fleurs forestières de la région et découvert dans ce microcosme une nouvelle projection du temps dans l’espace. Les nuances subtiles et les contrastes feutrés ont éveillé mes sens. Leurs insignifiantes\ndifférences me furent une révélation… » \nEnseignante de profession\, Hélène Casanova a une affection singulière pour la littérature et la photographie. L’écriture de « Fleurs forestières de printemps » est le fruit de la rencontre entre une certaine situation historique et son goût pour la contemplation et la transmission.
URL:https://www.lechevaldanslarbre.fr/event/dedicace-dhelene-casanova-pour-fleurs-forestieres-de-printemps-samedi-7-juin-de-10h-12h-a-la-librairie/
CATEGORIES:Signatures d'auteurs
ATTACH;FMTTYPE=image/jpeg:https://www.lechevaldanslarbre.fr/wp-content/uploads/2025/05/Opera-Instantane_2025-05-28_142523_affiche_helene_casanova_0706.pdf.jpg
END:VEVENT
BEGIN:VEVENT
DTSTART;TZID=Europe/Paris:20250609T090000
DTEND;TZID=Europe/Paris:20250609T173000
DTSTAMP:20260420T090545
CREATED:20250528T125010Z
LAST-MODIFIED:20250528T124431Z
UID:3465-1749459600-1749490200@www.lechevaldanslarbre.fr
SUMMARY:Fête du Printemps à OMS – Lundi 9 juin de 9h à 17h30
DESCRIPTION:Dans le cadre de la 16 ème Fête du Printemps\, et pour le plaisir de faire découvrir l’environnement naturel et patrimonial d’OMS\, l’Association des Loisirs d’OMS propose des randonnées faciles et familiales\, un marché de producteurs locaux\, une exposition des œuvres d’artistes locaux… \nCe sera une belle occasion pour Le Cheval dans l’Arbre de vous proposer des ouvrages sur la nature\, l’écologie\, l’histoire catalane\, pour les petits et les grands !
URL:https://www.lechevaldanslarbre.fr/event/fete-du-printemps-a-oms-lundi-9-juin-de-9h-a-17h30/
LOCATION:OMS
CATEGORIES:Les sorties de la librairie
ATTACH;FMTTYPE=image/jpeg:https://www.lechevaldanslarbre.fr/wp-content/uploads/2025/05/Opera-Instantane_2025-05-28_142749_canetaccueil.com_.jpg
END:VEVENT
BEGIN:VEVENT
DTSTART;TZID=Europe/Paris:20250613T180000
DTEND;TZID=Europe/Paris:20250615T193000
DTSTAMP:20260420T090545
CREATED:20250528T124502Z
LAST-MODIFIED:20250528T124415Z
UID:3470-1749837600-1750015800@www.lechevaldanslarbre.fr
SUMMARY:Festival Littéraire La Moisson à Céret – 13\, 14 et 15 juin
DESCRIPTION:Pour la 5 ème édition l’association Pas de Porte organise son festival La Moisson ! Retrouvez tout au long du weekend\, des ateliers\, des lectures de correspondances d’artistes\, des entretiens\, des rencontres\, des spectacles\, ainsi que des séances de signatures auxquelles participera Le Cheval de L’arbre.\nAuteurs invités : Louis-Philippe Dalembert / Joan-Lluís Lluís / Carole Martinez\nRetrouvez le programme détaillé ici : Programme 2025 | La Moisson
URL:https://www.lechevaldanslarbre.fr/event/festival-litteraire-la-moisson-a-ceret-13-14-et-15-juin/
CATEGORIES:Les sorties de la librairie
ATTACH;FMTTYPE=image/jpeg:https://www.lechevaldanslarbre.fr/wp-content/uploads/2025/05/1748427412.2025.affichea3.1-e1748435693402.jpg
END:VEVENT
BEGIN:VEVENT
DTSTART;TZID=Europe/Paris:20250615T090000
DTEND;TZID=Europe/Paris:20250615T180000
DTSTAMP:20260420T090545
CREATED:20250528T124017Z
LAST-MODIFIED:20250528T124144Z
UID:3476-1749978000-1750010400@www.lechevaldanslarbre.fr
SUMMARY:Fête des Paniers à Reynès – Dimanche 15 juin de 9h-18h
DESCRIPTION:L’association Cistells i banastes organise à cette occasion\, outre le marché habituel des vanniers\, un défilé inédit\, intitulé Un brin nature sauvage\, de costumes et accessoires à base de fibres naturelles\, végétales ou animales.\nLe Cheval dans l’Arbre vous proposera à son stand un choix d’ouvrages sur la vannerie.
URL:https://www.lechevaldanslarbre.fr/event/fete-des-paniers-a-reynes-dimanche-15-juin-de-9h-18h/
CATEGORIES:Les sorties de la librairie
ATTACH;FMTTYPE=image/jpeg:https://www.lechevaldanslarbre.fr/wp-content/uploads/2025/05/affiche-finale_page-00013-e1748435852454.jpg
END:VEVENT
BEGIN:VEVENT
DTSTART;TZID=Europe/Paris:20250621T100000
DTEND;TZID=Europe/Paris:20250621T113000
DTSTAMP:20260420T090545
CREATED:20250528T123952Z
LAST-MODIFIED:20250528T130113Z
UID:3479-1750500000-1750505400@www.lechevaldanslarbre.fr
SUMMARY:Atelier d’écriture créative spécial Fête de la Musique par Alice Méchain à la librairie – Samedi 21 juin de 10h-11h30
DESCRIPTION:Offrez à vos enfants et ados un temps d’exploration ludique de leur créativité pendant que vous allez au marché de Céret ! Alice prendra bien soin d’eux et partagera avec eux le secret des mots pour créer leur propre musique.\nÀ partir de 8-9 ans\, les inscriptions se font au prix de 12€\nAttention\, places limitées à 10 participants. Ne tardez pas !
URL:https://www.lechevaldanslarbre.fr/event/atelier-decriture-creative-special-fete-de-la-musique-par-alice-mechain-a-la-librairie-samedi-21-juin-de-10h-11h30/
CATEGORIES:Signatures d'auteurs
ATTACH;FMTTYPE=image/jpeg:https://www.lechevaldanslarbre.fr/wp-content/uploads/2025/05/Opera-Instantane_2025-05-28_143928_www.instagram.com_-e1748436008735.jpg
END:VEVENT
END:VCALENDAR