BEGIN:VCALENDAR
VERSION:2.0
PRODID:-//Le Cheval dans l&#039;Arbre - ECPv6.15.11//NONSGML v1.0//EN
CALSCALE:GREGORIAN
METHOD:PUBLISH
X-WR-CALNAME:Le Cheval dans l&#039;Arbre
X-ORIGINAL-URL:https://www.lechevaldanslarbre.fr
X-WR-CALDESC:Évènements pour Le Cheval dans l&#039;Arbre
REFRESH-INTERVAL;VALUE=DURATION:PT1H
X-Robots-Tag:noindex
X-PUBLISHED-TTL:PT1H
BEGIN:VTIMEZONE
TZID:Europe/Paris
BEGIN:DAYLIGHT
TZOFFSETFROM:+0100
TZOFFSETTO:+0200
TZNAME:CEST
DTSTART:20240331T010000
END:DAYLIGHT
BEGIN:STANDARD
TZOFFSETFROM:+0200
TZOFFSETTO:+0100
TZNAME:CET
DTSTART:20241027T010000
END:STANDARD
BEGIN:DAYLIGHT
TZOFFSETFROM:+0100
TZOFFSETTO:+0200
TZNAME:CEST
DTSTART:20250330T010000
END:DAYLIGHT
BEGIN:STANDARD
TZOFFSETFROM:+0200
TZOFFSETTO:+0100
TZNAME:CET
DTSTART:20251026T010000
END:STANDARD
BEGIN:DAYLIGHT
TZOFFSETFROM:+0100
TZOFFSETTO:+0200
TZNAME:CEST
DTSTART:20260329T010000
END:DAYLIGHT
BEGIN:STANDARD
TZOFFSETFROM:+0200
TZOFFSETTO:+0100
TZNAME:CET
DTSTART:20261025T010000
END:STANDARD
END:VTIMEZONE
BEGIN:VEVENT
DTSTART;TZID=Europe/Paris:20250916T190000
DTEND;TZID=Europe/Paris:20250916T190000
DTSTAMP:20260420T042434
CREATED:20250905T095000Z
LAST-MODIFIED:20250905T130345Z
UID:3574-1758049200-1758049200@www.lechevaldanslarbre.fr
SUMMARY:Conférence de Nicole Rey sur « Charlotte Delbo : l’écriture comme ultime lieu de résistance » – Mardi 16 septembre 19h à la librairie
DESCRIPTION:Dans le cadre de la semaine de mobilisation pour la paix dans le monde\, nous avons le plaisir de recevoir Nicole Rey\, passeur de mémoire de la Résistance et la Déportation : « Charlotte Delbo\, résistante au sein du réseau Politzer\, déportée à Auschwitz\, secrétaire de Louis Jouvet\, écrivaine et poétesse\, est reconnue aujourd’hui comme une des grandes voix\, une des grandes plumes de la littérature de la deuxième moitié du XXe siècle. Une plume singulière qui\, au retour des camps\, a établi une relation intime entre écriture et Histoire\, écriture et mémoire/témoignage\, écriture et engagement politique. » \nLa conférence sera suivie d’un pot de l’amitié.
URL:https://www.lechevaldanslarbre.fr/event/festival-courts-circconference-nicole-rey-charlotte-delbo-ecriture-comme-lieu-de-resistance-16-septembre-19h-a-la-librairie/
LOCATION:Librairie\, 1 Avenue Michel Aribaud\, CERET\, 66400\, France
CATEGORIES:Signatures d'auteurs
ATTACH;FMTTYPE=image/webp:https://www.lechevaldanslarbre.fr/wp-content/uploads/2025/09/image_livre_charlotte_delbo.webp
END:VEVENT
BEGIN:VEVENT
DTSTART;TZID=Europe/Paris:20250910T150000
DTEND;TZID=Europe/Paris:20250910T200000
DTSTAMP:20260420T042434
CREATED:20250905T095500Z
LAST-MODIFIED:20250905T130405Z
UID:3562-1757516400-1757534400@www.lechevaldanslarbre.fr
SUMMARY:Festival Courts Circuit 66 – Mercredi 10 septembre 15h-22h à la Salle de l'Union
DESCRIPTION:Dans le cadre de la 6ème édition\, la ville de Céret accueille deux journées de projection\, rencontres et animations autour du court métrage (9-10/09). C’est gratuit et accessible à tous. \nLe Cheval dans l’Arbre sera présent le mercredi 10 à la Salle de l’Union\, notamment pour accompagner la présentation du livre Les corps ont mieux à dire de Marie Demunter. \nPour la programmation complète : www.courtscircuit66.com
URL:https://www.lechevaldanslarbre.fr/event/festival-courtscircuit66-2025-mercredi-10-septembre-15h-20h-salle-union/
LOCATION:Salle de l’Union
CATEGORIES:Signatures d'auteurs
ATTACH;FMTTYPE=image/jpeg:https://www.lechevaldanslarbre.fr/wp-content/uploads/2025/09/CourtsCircuit_Ceret-1009.jpg
ORGANIZER;CN="Festival CourtsCircuit66":MAILTO:festivalcc66@gmail.com
END:VEVENT
BEGIN:VEVENT
DTSTART;TZID=Europe/Paris:20250928T090000
DTEND;TZID=Europe/Paris:20250928T180000
DTSTAMP:20260420T042434
CREATED:20250905T094803Z
LAST-MODIFIED:20250908T131844Z
UID:3579-1759050000-1759082400@www.lechevaldanslarbre.fr
SUMMARY:« Céret : Livres et Editeurs en Fête » – Dimanche 28 septembre 9h-18h - Boulevard Jean-Jaurès et Place Picasso
DESCRIPTION:La Fête du Livre et des Editeurs est organisée cette année par les Amis de la Librairie Le Cheval dans l’Arbre autour de la thématique « De l’Art Photographique à l’Objet Livre ».  \nCet événement permet la rencontre et les échanges directs entre les auteurs\, les éditeurs et le public. \nL’Association des Amis de la Librairie est heureuse de pouvoir faire vivre ce moment de rencontre culturelle à Céret. Elle remercie Citoyens dans les Quartiers de lui avoir passé le flambeau. \nRencontres\, débats\, entretiens\, lectures à voix haute\, animations auprès du jeune public\, sont au cœur de notre démarche pour faire connaître les auteurs et leurs œuvres. \n                  \n  \n 
URL:https://www.lechevaldanslarbre.fr/event/ceret-livres-et-editeurs-en-fete-dimanche-28-septembre-9h-boulevard-jean-jaures_place-picasso/
LOCATION:Boulevards\, Boulevard Jean Jaures\, CERET\, 66400\, France
CATEGORIES:Signatures d'auteurs
ATTACH;FMTTYPE=image/jpeg:https://www.lechevaldanslarbre.fr/wp-content/uploads/2025/09/affiche_clef-2025.jpg
END:VEVENT
END:VCALENDAR