BEGIN:VCALENDAR
VERSION:2.0
PRODID:-//Le Cheval dans l&#039;Arbre - ECPv6.15.11//NONSGML v1.0//EN
CALSCALE:GREGORIAN
METHOD:PUBLISH
X-ORIGINAL-URL:https://www.lechevaldanslarbre.fr
X-WR-CALDESC:Évènements pour Le Cheval dans l&#039;Arbre
REFRESH-INTERVAL;VALUE=DURATION:PT1H
X-Robots-Tag:noindex
X-PUBLISHED-TTL:PT1H
BEGIN:VTIMEZONE
TZID:Europe/Paris
BEGIN:DAYLIGHT
TZOFFSETFROM:+0100
TZOFFSETTO:+0200
TZNAME:CEST
DTSTART:20240331T010000
END:DAYLIGHT
BEGIN:STANDARD
TZOFFSETFROM:+0200
TZOFFSETTO:+0100
TZNAME:CET
DTSTART:20241027T010000
END:STANDARD
BEGIN:DAYLIGHT
TZOFFSETFROM:+0100
TZOFFSETTO:+0200
TZNAME:CEST
DTSTART:20250330T010000
END:DAYLIGHT
BEGIN:STANDARD
TZOFFSETFROM:+0200
TZOFFSETTO:+0100
TZNAME:CET
DTSTART:20251026T010000
END:STANDARD
BEGIN:DAYLIGHT
TZOFFSETFROM:+0100
TZOFFSETTO:+0200
TZNAME:CEST
DTSTART:20260329T010000
END:DAYLIGHT
BEGIN:STANDARD
TZOFFSETFROM:+0200
TZOFFSETTO:+0100
TZNAME:CET
DTSTART:20261025T010000
END:STANDARD
END:VTIMEZONE
BEGIN:VEVENT
DTSTART;TZID=Europe/Paris:20251106T190000
DTEND;TZID=Europe/Paris:20251106T203000
DTSTAMP:20260420T011224
CREATED:20251028T172936Z
LAST-MODIFIED:20251116T105927Z
UID:3634-1762455600-1762461000@www.lechevaldanslarbre.fr
SUMMARY:Remise du Prix Littéraire du Vallespir – Jeudi 6 novembre 19h à la librairie
DESCRIPTION:Le Prix Littéraire du Vallespir (2nde édition) sera remis à Liza Montes pour son livre « Tatouage d’une vie » en présence de Carlos Grèzes\, lauréat de la 1ère édition pour « Sombre est la nuit ». \nLe livre primé est un voyage intime en 22 poèmes\, reflet de la vie de l’autrice en tant que femme\, artiste et être hypersensible. \n 
URL:https://www.lechevaldanslarbre.fr/event/remise-du-prix-litteraire-du-vallespir-jeudi-6-novembre-19h-a-la-librairie/
LOCATION:Librairie\, 1 Avenue Michel Aribaud\, CERET\, 66400\, France
ATTACH;FMTTYPE=image/png:https://www.lechevaldanslarbre.fr/wp-content/uploads/2025/10/Tatouage_dune_vie.png
ORGANIZER;CN="Librairie Le Cheval dans l'Arbre":MAILTO:librairie@lechevaldanslarbre.fr
END:VEVENT
BEGIN:VEVENT
DTSTART;TZID=Europe/Paris:20251114T183000
DTEND;TZID=Europe/Paris:20251114T203000
DTSTAMP:20260420T011224
CREATED:20251028T172408Z
LAST-MODIFIED:20251028T172408Z
UID:3630-1763145000-1763152200@www.lechevaldanslarbre.fr
SUMMARY:Présentation de la rentrée littéraire – Vendredi 14 novembre 18h30 à la Médiathèque d’Elne
DESCRIPTION:Comme l’an passé\, la librairie présentera ses coups de cœur de la rentrée à la médiathèque d’Elne\, avec les librairies La Petite Escapade\, Oxymore et Torcatis\, en présence des auteurs Audrey Jonca\, Marie Ader & Kisito. \nLe groupe Trip for Leon ponctuera la rencontre d’intermèdes musicaux et un buffet viendra clôturer la soirée de manière conviviale. \n  \n  \n 
URL:https://www.lechevaldanslarbre.fr/event/presentation-de-la-rentree-litteraire-vendredi-14-novembre-18h30-a-la-mediatheque-delne/
LOCATION:Médiathèque Elne\, 3 Rue du Dr Charles Bolte\, ELNE\, 66200\, France
CATEGORIES:Les sorties de la librairie
ATTACH;FMTTYPE=image/png:https://www.lechevaldanslarbre.fr/wp-content/uploads/2025/10/Rentree_literaire_Elne.png
END:VEVENT
BEGIN:VEVENT
DTSTART;TZID=Europe/Paris:20251115T100000
DTEND;TZID=Europe/Paris:20251115T113000
DTSTAMP:20260420T011224
CREATED:20251028T171431Z
LAST-MODIFIED:20251028T171624Z
UID:3628-1763200800-1763206200@www.lechevaldanslarbre.fr
SUMMARY:Atelier d’écriture créative pour enfants par Alice Méchain – Samedi 15 novembre 10h-11h30 à la librairie
DESCRIPTION:Offrez à vos enfants un temps d’exploration ludique de leur créativité pendant que vous allez au marché de Céret ! \nDans cet atelier guidé\, ils construiront un calendrier de l’avent à la façon d’une BD ou d’un roman graphique qu’ils rapporteront à la maison. \nÀ partir de 8-9 ans\, les inscriptions se font à la librairie au prix de 12 euros. \nTout le matériel est fourni. Attention\, places limitées à 10 participants. Ne tardez pas !
URL:https://www.lechevaldanslarbre.fr/event/atelier-decriture-creative-pour-enfants-par-alice-mechain-samedi-15-novembre-10h-11h30-a-la-librairie/
LOCATION:Librairie\, 1 Avenue Michel Aribaud\, CERET\, 66400\, France
CATEGORIES:Ateliers
ATTACH;FMTTYPE=image/png:https://www.lechevaldanslarbre.fr/wp-content/uploads/2025/10/Atelier_ecriture_attendant_Noel.png
ORGANIZER;CN="Librairie Le Cheval dans l'Arbre":MAILTO:librairie@lechevaldanslarbre.fr
END:VEVENT
BEGIN:VEVENT
DTSTART;TZID=Europe/Paris:20251118T190000
DTEND;TZID=Europe/Paris:20251118T203000
DTSTAMP:20260420T011224
CREATED:20251028T170855Z
LAST-MODIFIED:20251028T170855Z
UID:3624-1763492400-1763497800@www.lechevaldanslarbre.fr
SUMMARY:Récital de contes par Clément Riot – Mardi 18 novembre à 19h à la librairie
DESCRIPTION:Clément Riot\, conteur-auteur-compositeur\, présentera et contera son dernier ouvrage « Contes des cinq sens »\, recueil de contes\, chacun consacré\, principalement ou en partie\, à l’un des cinq sens. \nCes contes relèvent aussi de genres différents et peuvent correspondre à des tranches d’âge différentes. \n 
URL:https://www.lechevaldanslarbre.fr/event/recital-de-contes-par-clement-riot-mardi-18-novembre-a-19h-a-la-librairie/
LOCATION:Librairie\, 1 Avenue Michel Aribaud\, CERET\, 66400\, France
CATEGORIES:Signatures d'auteurs
ATTACH;FMTTYPE=image/png:https://www.lechevaldanslarbre.fr/wp-content/uploads/2025/10/Contes_des_cinq_sens-1.png
ORGANIZER;CN="Librairie Le Cheval dans l'Arbre":MAILTO:librairie@lechevaldanslarbre.fr
END:VEVENT
BEGIN:VEVENT
DTSTART;TZID=Europe/Paris:20251121T190000
DTEND;TZID=Europe/Paris:20251121T203000
DTSTAMP:20260420T011224
CREATED:20251028T165820Z
LAST-MODIFIED:20251028T165820Z
UID:3622-1763751600-1763757000@www.lechevaldanslarbre.fr
SUMMARY:Rencontre avec Serge Legrand-Vall autour de son dernier livre « Les eaux dangereuses » – Vendredi 21 novembre à 19h à la librairie
DESCRIPTION:Serge Legrand-Vall\, enfant de républicains espagnols\, a beaucoup écrit sur la guerre d’Espagne. \nCe dernier né\, « Les eaux dangereuses »\, nous dirige vers le nord de la Nouvelle Zélande. C’est un roman d’aventure où les protagonistes sont pris dans une course poursuite… \nÀ chaque roman\, Serge Legrand-Vall progresse vers une quête nouvelle de ce qui fait la complexité du rapport de l’humain au monde qui l’entoure. \n 
URL:https://www.lechevaldanslarbre.fr/event/rencontre-avec-serge-legrand-vall-autour-de-son-dernier-livre-les-eaux-dangereuses-vendredi-21-novembre-a-19h-a-la-librairie/
LOCATION:Librairie\, 1 Avenue Michel Aribaud\, CERET\, 66400\, France
CATEGORIES:Signatures d'auteurs
ATTACH;FMTTYPE=image/png:https://www.lechevaldanslarbre.fr/wp-content/uploads/2025/10/Les_Eaux_Dangereuses.png
ORGANIZER;CN="Librairie Le Cheval dans l'Arbre":MAILTO:librairie@lechevaldanslarbre.fr
END:VEVENT
BEGIN:VEVENT
DTSTART;TZID=Europe/Paris:20251125T190000
DTEND;TZID=Europe/Paris:20251125T203000
DTSTAMP:20260420T011224
CREATED:20251028T165235Z
LAST-MODIFIED:20251123T081848Z
UID:3607-1764097200-1764102600@www.lechevaldanslarbre.fr
SUMMARY:Rencontre avec Hélène Legrais autour de son dernier livre « La fascination Titaÿna » – Mardi 25 novembre à 19h à la librairie
DESCRIPTION:Avec « La fascination Titaÿna »\, Hélène Legrais signe un livre captivant sur l’émancipation\, le courage et la quête d’identité\, et remet la lumière sur une femme charismatique et indomptable qui a bousculé les codes de son époque. \n 
URL:https://www.lechevaldanslarbre.fr/event/rencontre-avec-helene-legrais-autour-de-son-dernier-livre-la-fascination-titayna-mardi-25-novembre-a-19h-a-la-librairie/
LOCATION:Librairie\, 1 Avenue Michel Aribaud\, CERET\, 66400\, France
CATEGORIES:Rencontres
ATTACH;FMTTYPE=image/png:https://www.lechevaldanslarbre.fr/wp-content/uploads/2025/10/La_Fascination_TITAYNA_2.png
ORGANIZER;CN="Librairie Le Cheval dans l'Arbre":MAILTO:librairie@lechevaldanslarbre.fr
END:VEVENT
END:VCALENDAR