BEGIN:VCALENDAR
VERSION:2.0
PRODID:-//Le Cheval dans l&#039;Arbre - ECPv6.15.11//NONSGML v1.0//EN
CALSCALE:GREGORIAN
METHOD:PUBLISH
X-WR-CALNAME:Le Cheval dans l&#039;Arbre
X-ORIGINAL-URL:https://www.lechevaldanslarbre.fr
X-WR-CALDESC:Évènements pour Le Cheval dans l&#039;Arbre
REFRESH-INTERVAL;VALUE=DURATION:PT1H
X-Robots-Tag:noindex
X-PUBLISHED-TTL:PT1H
BEGIN:VTIMEZONE
TZID:Europe/Paris
BEGIN:DAYLIGHT
TZOFFSETFROM:+0100
TZOFFSETTO:+0200
TZNAME:CEST
DTSTART:20250330T010000
END:DAYLIGHT
BEGIN:STANDARD
TZOFFSETFROM:+0200
TZOFFSETTO:+0100
TZNAME:CET
DTSTART:20251026T010000
END:STANDARD
BEGIN:DAYLIGHT
TZOFFSETFROM:+0100
TZOFFSETTO:+0200
TZNAME:CEST
DTSTART:20260329T010000
END:DAYLIGHT
BEGIN:STANDARD
TZOFFSETFROM:+0200
TZOFFSETTO:+0100
TZNAME:CET
DTSTART:20261025T010000
END:STANDARD
BEGIN:DAYLIGHT
TZOFFSETFROM:+0100
TZOFFSETTO:+0200
TZNAME:CEST
DTSTART:20270328T010000
END:DAYLIGHT
BEGIN:STANDARD
TZOFFSETFROM:+0200
TZOFFSETTO:+0100
TZNAME:CET
DTSTART:20271031T010000
END:STANDARD
END:VTIMEZONE
BEGIN:VEVENT
DTSTART;TZID=Europe/Paris:20260117T100000
DTEND;TZID=Europe/Paris:20260117T120000
DTSTAMP:20260419T215754
CREATED:20251227T235741Z
LAST-MODIFIED:20260110T164858Z
UID:3684-1768644000-1768651200@www.lechevaldanslarbre.fr
SUMMARY:Signature par Jean-Marc Bassaget de son livre « Une vie en Bleu Blanc Rouge » - Samedi 17 janvier à partir de 10h à la librairie
DESCRIPTION:Jean-Marc Bassaget retrace dans son livre une trajectoire peu ordinaire\, de ses débuts d’instituteur au poste d’adjoint à l’inspecteur d’académie\, puis de son intégration au service du ministère de l’intérieur jusqu’à son dernier poste comme sous-préfet à Céret.\nSon livre dévoile avec sincérité les visages d’un État humain\, vulnérable parfois\, mais toujours animé d’un vrai sens du service public. Un récit à hauteur d’homme\, qui invite à voir la fonction publique non pas comme une institution lisse\, mais comme une aventure intérieure et\ncitoyenne.
URL:https://www.lechevaldanslarbre.fr/event/signature-par-jean-marc-bassaget-de-son-livre-une-vie-en-bleu-blanc-rouge-samedi-17-janvier-a-partir-de-10h-a-la-librairie/
LOCATION:Librairie\, 1 Avenue Michel Aribaud\, CERET\, 66400\, France
CATEGORIES:Signatures d'auteurs
ATTACH;FMTTYPE=image/png:https://www.lechevaldanslarbre.fr/wp-content/uploads/2025/12/JM_BASSAGET_2.png
ORGANIZER;CN="Librairie Le Cheval dans l'Arbre":MAILTO:librairie@lechevaldanslarbre.fr
END:VEVENT
BEGIN:VEVENT
DTSTART;TZID=Europe/Paris:20260124T170000
DTEND;TZID=Europe/Paris:20260124T193000
DTSTAMP:20260419T215754
CREATED:20251227T235718Z
LAST-MODIFIED:20260126T084618Z
UID:3680-1769274000-1769283000@www.lechevaldanslarbre.fr
SUMMARY:Les 10èmes Nuits de la Lecture – Le 24 Janvier à 17h à la Librairie
DESCRIPTION:L’édition 2026 des Nuits de la lecture\, organisée par le Centre National du Livre\, a pour thème « Villes et campagnes »\, explorant les relations entre territoires urbains et ruraux à travers la littérature et les arts.\nLe Cheval dans l’Arbre propose une animation le Samedi 24 Janvier en fin d’après-midi (17h).\nPlusieurs lectures\, des lectrices\, des lecteurs\, des interventions brèves et variées pour fêter la lecture\, donner envie de lire\, d’entendre lire et de soutenir le livre\, avec l’Association des Amis de la Librairie. \nNous vous attendons à la librairie! \n 
URL:https://www.lechevaldanslarbre.fr/event/les-10emes-nuits-de-la-lecture-du-21-au-25-janvier-a-la-librairie/
LOCATION:Librairie\, 1 Avenue Michel Aribaud\, CERET\, 66400\, France
ATTACH;FMTTYPE=image/jpeg:https://www.lechevaldanslarbre.fr/wp-content/uploads/2025/12/POST-INSTA_1080x1350px.jpg
ORGANIZER;CN="Librairie Le Cheval dans l'Arbre":MAILTO:librairie@lechevaldanslarbre.fr
END:VEVENT
BEGIN:VEVENT
DTSTART;TZID=Europe/Paris:20260127T100000
DTEND;TZID=Europe/Paris:20260127T120000
DTSTAMP:20260419T215754
CREATED:20251227T235700Z
LAST-MODIFIED:20260126T082805Z
UID:3675-1769508000-1769515200@www.lechevaldanslarbre.fr
SUMMARY:Conférence et lecture de Thomas Vinau pour le Lycée Déodat de Séverac – Mardi 27 janvier à 10h à la Salle de l’Union
DESCRIPTION:ATTENTION: Cet événement est réserve au élevés du Lycée et aux personnes expressément invitées par le Lycée. \nLe Cheval dans l’Arbre participera à la conférence donnée par le poète et romancier Thomas Vinau\, en vous proposant ses ouvrages récents.
URL:https://www.lechevaldanslarbre.fr/event/conference-et-lecture-de-thomas-vinau-en-partenariat-avec-le-lycee-deodat-de-severac-mardi-27-janvier-a-10h-a-la-salle-de-lunion/
LOCATION:Salle de l’Union
CATEGORIES:Rencontres
ATTACH;FMTTYPE=image/png:https://www.lechevaldanslarbre.fr/wp-content/uploads/2025/12/T_VINIAU_2.png
END:VEVENT
BEGIN:VEVENT
DTSTART;TZID=Europe/Paris:20260127T190000
DTEND;TZID=Europe/Paris:20260127T210000
DTSTAMP:20260419T215754
CREATED:20251227T235639Z
LAST-MODIFIED:20260126T084536Z
UID:3673-1769540400-1769547600@www.lechevaldanslarbre.fr
SUMMARY:Rencontre avec Nicole Rey autour du livre « Les femmes qui lisent sont dangereuses » de Laure Adler et Stephan Bollmann – Mardi 27 janvier à 19h à la Librairie
DESCRIPTION:Lecture d’extraits de l’ouvrage de Laure Adler et Stephan Bollmann par Nicole Rey\, figure militante pour la cause des femmes\, qui racontera au cours de cette lecture quelques tableaux en lien avec le texte afin de sensibiliser le public aux inégalités intellectuelles attribuées aux femmes.
URL:https://www.lechevaldanslarbre.fr/event/rencontre-avec-nicole-rey-autour-du-livre-les-femmes-qui-lisent-sont-dangereuses-de-laure-adler-et-stephan-bollmann-mardi-27-janvier-a-19h-a-la-librairie/
LOCATION:Librairie\, 1 Avenue Michel Aribaud\, CERET\, 66400\, France
CATEGORIES:Rencontres
ATTACH;FMTTYPE=image/png:https://www.lechevaldanslarbre.fr/wp-content/uploads/2025/12/N_REY_2.png
ORGANIZER;CN="Librairie Le Cheval dans l'Arbre":MAILTO:librairie@lechevaldanslarbre.fr
END:VEVENT
END:VCALENDAR